Workbook

Sheet Rekapitulace stavby
A1: Export Komplet | BA1: 2.0 | BB1: ZAMOK | BT1: False | BU1: False | BV1: {05583877-3967-4702-9440-09cabd1a713f}
BS2: 0,01 | BT2: 21
BS3: 0,01 | BT3: 15
D4: REKAPITULACE STAVBY | AS4: v --- níže se nacházejí doplnkové a pomocné údaje k sestavám --- v | BE4: Návod na vyplnění | BS4: 0,001
D5: Kód: | K5: 22014 | BE5: Měnit lze pouze buňky se žlutým podbarvením!_x000D_ _x000D_ 1) na prvním listu Rekapitulace stavby vyplňte v sestavě_x000D_ _x000D_ a) Souhrnný list_x000D_ - údaje o Uchazeči_x000D_ (přenesou se do ostatních sestav i v jiných listech)_x000D_ _x000D_ b) Rekapitulace objektů_x000D_ - potřebné Ostatní náklady_x000D_ _x000D_ 2) na vybraných listech vyplňte v sestavě_x000D_ _x000D_ a) Krycí list_x000D_ - údaje o Uchazeči, pokud se liší od údajů o Uchazeči na Souhrnném listu_x000D_ (údaje se přenesou do ostatních sestav v daném listu)_x000D_ _x000D_ b) Rekapitulace rozpočtu_x000D_ - potřebné Ostatní náklady_x000D_ _x000D_ c) Celkové náklady za stavbu_x000D_ - ceny u položek_x000D_ - množství, pokud má žluté podbarvení_x000D_ - a v případě potřeby poznámku (ta je ve skrytém sloupci) | BS5: 0,01
D6: Stavba: | K6: Rekonstrukce elektroinstalace v budově DDM Astra Zlín | BS6: 0,01
D7: KSO: | AK7: CC-CZ: | BS7: 0,01
D8: Místo: | AK8: Datum: | AN8: 1. 12. 2022 | BS8: 0,01
BS9: 0,01
D10: Zadavatel: | AK10: IČ: | BS10: 0,01
AK11: DIČ: | BS11: 0,01
BS12: 0,01
D13: Uchazeč: | AK13: IČ: | AN13: Vyplň údaj | BS13: 0,01
E14: Vyplň údaj | AK14: DIČ: | AN14: Vyplň údaj | BS14: 0,01
BS15: False
D16: Projektant: | AK16: IČ: | BS16: False
AK17: DIČ: | BS17: True
BS18: 0,01
D19: Zpracovatel: | AK19: IČ: | BS19: 0,01
AK20: DIČ: | BS20: True
D22: Poznámka:
D26: Cena bez DPH | AK26: =ROUND(AG94,2) -> 0
L28: Sazba daně | W28: Základ daně | AK28: Výše daně
D29: DPH | F29: základní | L29: 0.21 | W29: =ROUND(AZ94, 2) -> 0 | AK29: =ROUND(AV94, 2) -> 0
F30: snížená | L30: 0.15 | W30: =ROUND(BA94, 2) -> 0 | AK30: =ROUND(AW94, 2) -> 0
F31: zákl. přenesená | L31: 0.21 | W31: =ROUND(BB94, 2) -> 0 | AK31: 0
F32: sníž. přenesená | L32: 0.15 | W32: =ROUND(BC94, 2) -> 0 | AK32: 0
F33: nulová | L33: 0 | W33: =ROUND(BD94, 2) -> 0 | AK33: 0
D35: Cena s DPH | T35: v | X35: CZK | AK35: =SUM(AK26:AK33) -> 0
D49: Projektant | AH49: Zpracovatel
D60: Datum a podpis: | V60: Razítko | AH60: Datum a podpis: | AM60: Razítko
D64: Objednavatel | AH64: Uchazeč
D75: Datum a podpis: | V75: Razítko | AH75: Datum a podpis: | AM75: Razítko
C82: REKAPITULACE OBJEKTŮ STAVBY A SOUPISŮ PRACÍ
C84: Kód: | L84: =K5 -> 22014
C85: Stavba: | L85: =K6 -> Rekonstrukce elektroinstalace v budově DDM Astra Zlín
C87: Místo: | L87: =IF(K8="","",K8) | AI87: Datum: | AM87: =IF(AN8= "","",AN8) -> 1. 12. 2022
C89: Zadavatel: | L89: =IF(E11= "","",E11) | AI89: Projektant: | AM89: =IF(E17="","",E17) | AS89: Informatívní údaje z listů zakázek
C90: Uchazeč: | L90: =IF(E14= "Vyplň údaj","",E14) | AI90: Zpracovatel: | AM90: =IF(E20="","",E20)
C92: Kód | I92: Popis | AG92: Cena bez DPH [CZK] | AN92: Cena s DPH [CZK] | AQ92: Typ | AS92: z toho Ostat._x000D_ náklady [CZK] | AT92: DPH [CZK] | AU92: Normohodiny [h] | AV92: DPH základní [CZK] | AW92: DPH snížená [CZK] | AX92: DPH základní přenesená_x000D_ [CZK] | AY92: DPH snížená přenesená_x000D_ [CZK] | AZ92: Základna_x000D_ DPH základní | BA92: Základna_x000D_ DPH snížená | BB92: Základna_x000D_ DPH zákl. přenesená | BC92: Základna_x000D_ DPH sníž. přenesená | BD92: Základna_x000D_ DPH nulová
C94: Náklady z rozpočtů | AG94: =ROUND(SUM(AG95:AG97),2) -> 0 | AN94: =SUM(AG94,AT94) -> 0 | AS94: =ROUND(SUM(AS95:AS97),2) -> 0 | AT94: =ROUND(SUM(AV94:AW94),2) -> 0 | AU94: =ROUND(SUM(AU95:AU97),5) -> 0 | AV94: =ROUND(AZ94*L29,2) -> 0 | AW94: =ROUND(BA94*L30,2) -> 0 | AX94: =ROUND(BB94*L29,2) -> 0 | AY94: =ROUND(BC94*L30,2) -> 0 | AZ94: =ROUND(SUM(AZ95:AZ97),2) -> 0 | BA94: =ROUND(SUM(BA95:BA97),2) -> 0 | BB94: =ROUND(SUM(BB95:BB97),2) -> 0 | BC94: =ROUND(SUM(BC95:BC97),2) -> 0 | BD94: =ROUND(SUM(BD95:BD97),2) -> 0 | BS94: D | BT94: 0 | BU94: ###NOIMPORT### | BV94: IMPORT | BW94: {05583877-3967-4702-9440-09cabd1a713f} | BX94: {00000000-0000-0000-0000-000000000000}
A95: / | D95: D.1.1 | J95: Architektonicko stavební řešení | AG95: ='D.1.1 - ASŘ'!J30 -> 0 | AN95: =SUM(AG95,AT95) -> 0 | AQ95: STA | AS95: 0 | AT95: =ROUND(SUM(AV95:AW95),2) -> 0 | AU95: ='D.1.1 - ASŘ'!P132 -> 0 | AV95: ='D.1.1 - ASŘ'!J33 -> 0 | AW95: ='D.1.1 - ASŘ'!J34 -> 0 | AX95: ='D.1.1 - ASŘ'!J35 -> 0 | AY95: ='D.1.1 - ASŘ'!J36 -> 0 | AZ95: ='D.1.1 - ASŘ'!F33 -> 0 | BA95: ='D.1.1 - ASŘ'!F34 -> 0 | BB95: ='D.1.1 - ASŘ'!F35 -> 0 | BC95: ='D.1.1 - ASŘ'!F36 -> 0 | BD95: ='D.1.1 - ASŘ'!F37 -> 0 | BT95: 1 | BV95: IMPORT | BW95: {79ee8fa6-17f7-4c6f-9fe8-41dd6e37431b} | BX95: {05583877-3967-4702-9440-09cabd1a713f} | CM95: 2
A96: / | D96: D.1.4.g | J96: Zařízení silnoproudé elektrotechniky | AG96: ='D.1.4.g - ESIL'!J30 -> 0 | AN96: =SUM(AG96,AT96) -> 0 | AQ96: STA | AS96: 0 | AT96: =ROUND(SUM(AV96:AW96),2) -> 0 | AU96: ='D.1.4.g - ESIL'!P124 -> 0 | AV96: ='D.1.4.g - ESIL'!J33 -> 0 | AW96: ='D.1.4.g - ESIL'!J34 -> 0 | AX96: ='D.1.4.g - ESIL'!J35 -> 0 | AY96: ='D.1.4.g - ESIL'!J36 -> 0 | AZ96: ='D.1.4.g - ESIL'!F33 -> 0 | BA96: ='D.1.4.g - ESIL'!F34 -> 0 | BB96: ='D.1.4.g - ESIL'!F35 -> 0 | BC96: ='D.1.4.g - ESIL'!F36 -> 0 | BD96: ='D.1.4.g - ESIL'!F37 -> 0 | BT96: 1 | BV96: IMPORT | BW96: {f01875cb-b885-49db-af99-8439a271619c} | BX96: {05583877-3967-4702-9440-09cabd1a713f} | CM96: 2
A97: / | D97: D.1.4.h | J97: Zařízení slaboproudé elektrotechniky | AG97: ='D.1.4.h - ESLP'!J30 -> 0 | AN97: =SUM(AG97,AT97) -> 0 | AQ97: STA | AS97: 0 | AT97: =ROUND(SUM(AV97:AW97),2) -> 0 | AU97: ='D.1.4.h - ESLP'!P123 -> 0 | AV97: ='D.1.4.h - ESLP'!J33 -> 0 | AW97: ='D.1.4.h - ESLP'!J34 -> 0 | AX97: ='D.1.4.h - ESLP'!J35 -> 0 | AY97: ='D.1.4.h - ESLP'!J36 -> 0 | AZ97: ='D.1.4.h - ESLP'!F33 -> 0 | BA97: ='D.1.4.h - ESLP'!F34 -> 0 | BB97: ='D.1.4.h - ESLP'!F35 -> 0 | BC97: ='D.1.4.h - ESLP'!F36 -> 0 | BD97: ='D.1.4.h - ESLP'!F37 -> 0 | BT97: 1 | BV97: IMPORT | BW97: {880fa24e-e5e2-4afc-ac8e-aebb03838616} | BX97: {05583877-3967-4702-9440-09cabd1a713f} | CM97: 2

Sheet D.1.1 - ASŘ
AT2: {79ee8fa6-17f7-4c6f-9fe8-41dd6e37431b}
AT3: 2
D4: KRYCÍ LIST SOUPISU PRACÍ | M4: v --- níže se nacházejí doplnkové a pomocné údaje k sestavám --- v | AT4: False
D6: Stavba:
E7: ='Rekapitulace stavby'!K6 -> Rekonstrukce elektroinstalace v budově DDM Astra Zlín
D8: Objekt:
E9: D.1.1 - Architektonicko stavební řešení
D11: KSO: | I11: CC-CZ:
D12: Místo: | I12: Datum: | J12: ='Rekapitulace stavby'!AN8 -> 1. 12. 2022
D14: Zadavatel: | I14: IČ: | J14: =IF('Rekapitulace stavby'!AN10="","",'Rekapitulace stavby'!AN10)
E15: =IF('Rekapitulace stavby'!E11="","",'Rekapitulace stavby'!E11) | I15: DIČ: | J15: =IF('Rekapitulace stavby'!AN11="","",'Rekapitulace stavby'!AN11)
D17: Uchazeč: | I17: IČ: | J17: ='Rekapitulace stavby'!AN13 -> Vyplň údaj
E18: ='Rekapitulace stavby'!E14 -> Vyplň údaj | I18: DIČ: | J18: ='Rekapitulace stavby'!AN14 -> Vyplň údaj
D20: Projektant: | I20: IČ: | J20: =IF('Rekapitulace stavby'!AN16="","",'Rekapitulace stavby'!AN16)
E21: =IF('Rekapitulace stavby'!E17="","",'Rekapitulace stavby'!E17) | I21: DIČ: | J21: =IF('Rekapitulace stavby'!AN17="","",'Rekapitulace stavby'!AN17)
D23: Zpracovatel: | I23: IČ: | J23: =IF('Rekapitulace stavby'!AN19="","",'Rekapitulace stavby'!AN19)
E24: =IF('Rekapitulace stavby'!E20="","",'Rekapitulace stavby'!E20) | I24: DIČ: | J24: =IF('Rekapitulace stavby'!AN20="","",'Rekapitulace stavby'!AN20)
D26: Poznámka:
D30: Cena bez DPH | J30: =ROUND(J132, 2) -> 0
F32: Základ daně | I32: Sazba daně | J32: Výše daně
D33: DPH | E33: základní | F33: =ROUND((SUM(BE132:BE348)), 2) -> 0 | I33: 0.21 | J33: =ROUND(((SUM(BE132:BE348))*I33), 2) -> 0
E34: snížená | F34: =ROUND((SUM(BF132:BF348)), 2) -> 0 | I34: 0.15 | J34: =ROUND(((SUM(BF132:BF348))*I34), 2) -> 0
E35: zákl. přenesená | F35: =ROUND((SUM(BG132:BG348)), 2) -> 0 | I35: 0.21 | J35: =0 -> 0
E36: sníž. přenesená | F36: =ROUND((SUM(BH132:BH348)), 2) -> 0 | I36: 0.15 | J36: =0 -> 0
E37: nulová | F37: =ROUND((SUM(BI132:BI348)), 2) -> 0 | I37: 0 | J37: =0 -> 0
D39: Cena s DPH | G39: v | H39: CZK | J39: =SUM(J30:J37) -> 0
D50: Projektant | G50: Zpracovatel
D61: Datum a podpis: | F61: Razítko | G61: Datum a podpis: | J61: Razítko
D65: Objednavatel | G65: Uchazeč
D76: Datum a podpis: | F76: Razítko | G76: Datum a podpis: | J76: Razítko
C82: REKAPITULACE ČLENĚNÍ SOUPISU PRACÍ
C84: Stavba:
E85: =E7 -> Rekonstrukce elektroinstalace v budově DDM Astra Zlín
C86: Objekt:
E87: =E9 -> D.1.1 - Architektonicko stavební řešení
C89: Místo: | F89: =F12 | I89: Datum: | J89: =IF(J12="","",J12) -> 1. 12. 2022
C91: Zadavatel: | F91: =E15 | I91: Projektant: | J91: =E21
C92: Uchazeč: | F92: =IF(E18="","",E18) -> Vyplň údaj | I92: Zpracovatel: | J92: =E24
C94: Kód dílu - Popis | J94: Cena celkem [CZK]
C96: Náklady ze soupisu prací | J96: =J132 -> 0 | AU96: -1
D97: HSV - HSV | J97: =J133 -> 0
D98: 3 - Svislé a kompletní konstrukce | J98: =J134 -> 0
D99: 342 - Stěny a příčky montované lehké | J99: =J151 -> 0
D100: 61 - Úpravy povrchů vnitřní | J100: =J159 -> 0
D101: 62 - Úpravy povrchů vnější | J101: =J250 -> 0
D102: 94 - Lešení a stavební výtahy | J102: =J253 -> 0
D103: 95 - Dokončovací konstrukce na pozemních stavbách | J103: =J255 -> 0
D104: 96 - Bourání konstrukcí | J104: =J264 -> 0
D105: 99 - Staveništní přesun hmot | J105: =J287 -> 0
D106: PSV - PSV | J106: =J289 -> 0
D107: 766 - Konstrukce truhlářské | J107: =J290 -> 0
D108: 781 - Obklady keramické | J108: =J293 -> 0
D109: 784 - Malby | J109: =J297 -> 0
D110: HSV - HSV | J110: =J338 -> 0
D111: D96 - Přesuny suti a vybouraných hmot | J111: =J339 -> 0
D112: VN - Vedlejší náklady | J112: =J347 -> 0
C119: SOUPIS PRACÍ
C121: Stavba:
E122: =E7 -> Rekonstrukce elektroinstalace v budově DDM Astra Zlín
C123: Objekt:
E124: =E9 -> D.1.1 - Architektonicko stavební řešení
C126: Místo: | F126: =F12 | I126: Datum: | J126: =IF(J12="","",J12) -> 1. 12. 2022
C128: Zadavatel: | F128: =E15 | I128: Projektant: | J128: =E21
C129: Uchazeč: | F129: =IF(E18="","",E18) -> Vyplň údaj | I129: Zpracovatel: | J129: =E24
C131: PČ | D131: Typ | E131: Kód | F131: Popis | G131: MJ | H131: Množství | I131: J.cena [CZK] | J131: Cena celkem [CZK] | K131: Cenová soustava | N131: DPH | O131: J. Nh [h] | P131: Nh celkem [h] | Q131: J. hmotnost [t] | R131: Hmotnost celkem [t] | S131: J. suť [t] | T131: Suť Celkem [t]
C132: Náklady soupisu celkem | J132: =BK132 -> 0 | P132: =P133+P289+P338 -> 0 | R132: =R133+R289+R338 -> 5.1661121 | T132: =T133+T289+T338 -> 0.66312 | AT132: D | AU132: -1 | BK132: =BK133+BK289+BK338 -> 0
D133: D | E133: HSV | F133: HSV | J133: =BK133 -> 0 | P133: =P134+P151+P159+P250+P253+P255+P264+P287 -> 0 | R133: =R134+R151+R159+R250+R253+R255+R264+R287 -> 4.564636 | T133: =T134+T151+T159+T250+T253+T255+T264+T287 -> 0.66312 | AR133: 1 | AT133: D | AU133: 0 | AY133: ROZPOCET | BK133: =BK134+BK151+BK159+BK250+BK253+BK255+BK264+BK287 -> 0
D134: D | E134: 3 | F134: Svislé a kompletní konstrukce | J134: =BK134 -> 0 | P134: =SUM(P135:P150) -> 0 | R134: =SUM(R135:R150) -> 0.6087588 | T134: =SUM(T135:T150) -> 0 | AR134: 1 | AT134: D | AU134: 1 | AY134: ROZPOCET | BK134: =SUM(BK135:BK150) -> 0
C135: 1 | D135: K | E135: 310238211 | F135: Zazdívka otvorů plochy do 1 m2 cihlami na MVC s použitím suché maltové směsi | G135: m3 | H135: 0.33 | J135: =ROUND(I135*H135,2) -> 0 | N135: základní | P135: =O135*H135 -> 0 | Q135: 1.62836 | R135: =Q135*H135 -> 0.5373588 | S135: 0 | T135: =S135*H135 -> 0 | AR135: 4 | AT135: K | AU135: 2 | AY135: ROZPOCET | BE135: =IF(N135="základní",J135,0) -> 0 | BF135: =IF(N135="snížená",J135,0) -> 0 | BG135: =IF(N135="zákl. přenesená",J135,0) -> 0 | BH135: =IF(N135="sníž. přenesená",J135,0) -> 0 | BI135: =IF(N135="nulová",J135,0) -> 0 | BJ135: 1 | BK135: =ROUND(I135*H135,2) -> 0 | BL135: 4 | BM135: 1
D136: VV | F136: "zazdění pův otvoru po rozvaděči poz. D :" 0,35*0,8*1,5 | H136: 0.42 | AT136: VV | AU136: 2 | AV136: 2 | AW136: True | AX136: 0 | AY136: ROZPOCET
D137: VV | F137: -0,15*0,6*1,0 | H137: -0.09 | AT137: VV | AU137: 2 | AV137: 2 | AW137: True | AX137: 0 | AY137: ROZPOCET
D138: VV | F138: Součet | H138: 0.33 | AT138: VV | AU138: 2 | AV138: 4 | AW138: True | AX138: 1 | AY138: ROZPOCET
C139: 2 | D139: K | E139: 317168111 | F139: Překlad POROTHERM plochý 115 x 71 x 1000 mm | G139: kus | H139: 3 | J139: =ROUND(I139*H139,2) -> 0 | N139: základní | P139: =O139*H139 -> 0 | Q139: 0.01726 | R139: =Q139*H139 -> 0.05178 | S139: 0 | T139: =S139*H139 -> 0 | AR139: 4 | AT139: K | AU139: 2 | AY139: ROZPOCET | BE139: =IF(N139="základní",J139,0) -> 0 | BF139: =IF(N139="snížená",J139,0) -> 0 | BG139: =IF(N139="zákl. přenesená",J139,0) -> 0 | BH139: =IF(N139="sníž. přenesená",J139,0) -> 0 | BI139: =IF(N139="nulová",J139,0) -> 0 | BJ139: 1 | BK139: =ROUND(I139*H139,2) -> 0 | BL139: 4 | BM139: 2
D140: VV | F140: "pro el. skříně :" | AT140: VV | AU140: 2 | AV140: 1 | AW140: True | AX140: 0 | AY140: ROZPOCET
D141: VV | F141: "1NP" | AT141: VV | AU141: 2 | AV141: 1 | AW141: True | AX141: 0 | AY141: ROZPOCET
D142: VV | F142: "pozn.A bez překladu:" 0 | H142: 0 | AT142: VV | AU142: 2 | AV142: 2 | AW142: True | AX142: 0 | AY142: ROZPOCET
D143: VV | F143: "pozn.B:" 2 | H143: 2 | AT143: VV | AU143: 2 | AV143: 2 | AW143: True | AX143: 0 | AY143: ROZPOCET
D144: VV | F144: "pozn.J:" 1 | H144: 1 | AT144: VV | AU144: 2 | AV144: 2 | AW144: True | AX144: 0 | AY144: ROZPOCET
D145: VV | F145: Součet | H145: 3 | AT145: VV | AU145: 2 | AV145: 4 | AW145: True | AX145: 1 | AY145: ROZPOCET
C146: 3 | D146: K | E146: 317168121 | F146: Překlad POROTHERM plochý 145 x 71 x 1000 mm | G146: kus | H146: 1 | J146: =ROUND(I146*H146,2) -> 0 | N146: základní | P146: =O146*H146 -> 0 | Q146: 0.01962 | R146: =Q146*H146 -> 0.01962 | S146: 0 | T146: =S146*H146 -> 0 | AR146: 4 | AT146: K | AU146: 2 | AY146: ROZPOCET | BE146: =IF(N146="základní",J146,0) -> 0 | BF146: =IF(N146="snížená",J146,0) -> 0 | BG146: =IF(N146="zákl. přenesená",J146,0) -> 0 | BH146: =IF(N146="sníž. přenesená",J146,0) -> 0 | BI146: =IF(N146="nulová",J146,0) -> 0 | BJ146: 1 | BK146: =ROUND(I146*H146,2) -> 0 | BL146: 4 | BM146: 3
D147: VV | F147: "pro el. skříně:" | AT147: VV | AU147: 2 | AV147: 1 | AW147: True | AX147: 0 | AY147: ROZPOCET
D148: VV | F148: "1NP" | AT148: VV | AU148: 2 | AV148: 1 | AW148: True | AX148: 0 | AY148: ROZPOCET
D149: VV | F149: "pozn.C:" 1 | H149: 1 | AT149: VV | AU149: 2 | AV149: 2 | AW149: True | AX149: 0 | AY149: ROZPOCET
D150: VV | F150: Součet | H150: 1 | AT150: VV | AU150: 2 | AV150: 4 | AW150: True | AX150: 1 | AY150: ROZPOCET
D151: D | E151: 342 | F151: Stěny a příčky montované lehké | J151: =BK151 -> 0 | P151: =SUM(P152:P158) -> 0 | R151: =SUM(R152:R158) -> 0.3087072 | T151: =SUM(T152:T158) -> 0 | AR151: 1 | AT151: D | AU151: 1 | AY151: ROZPOCET | BK151: =SUM(BK152:BK158) -> 0
C152: 4 | D152: K | E152: 342264051 | F152: Podhled sádrokartonový na zavěšenou ocel. konstr. desky standard tl. 12,5 mm, bez izolace | G152: m2 | H152: 25.408 | J152: =ROUND(I152*H152,2) -> 0 | N152: základní | P152: =O152*H152 -> 0 | Q152: 0.01215 | R152: =Q152*H152 -> 0.3087072 | S152: 0 | T152: =S152*H152 -> 0 | AR152: 4 | AT152: K | AU152: 2 | AY152: ROZPOCET | BE152: =IF(N152="základní",J152,0) -> 0 | BF152: =IF(N152="snížená",J152,0) -> 0 | BG152: =IF(N152="zákl. přenesená",J152,0) -> 0 | BH152: =IF(N152="sníž. přenesená",J152,0) -> 0 | BI152: =IF(N152="nulová",J152,0) -> 0 | BJ152: 1 | BK152: =ROUND(I152*H152,2) -> 0 | BL152: 4 | BM152: 4
D153: VV | F153: "1NP:" | AT153: VV | AU153: 2 | AV153: 1 | AW153: True | AX153: 0 | AY153: ROZPOCET
D154: VV | F154: "mč 105 :" 2,16*1,64+4,6*2,0+0,2*(1,64+2,0) | H154: 13.47 | AT154: VV | AU154: 2 | AV154: 2 | AW154: True | AX154: 0 | AY154: ROZPOCET
D155: VV | F155: "2NP:" | AT155: VV | AU155: 2 | AV155: 1 | AW155: True | AX155: 0 | AY155: ROZPOCET
D156: VV | F156: "mč 202 :" 6,7*1,64+1,3*0,5+0,15*2,0 | H156: 11.938 | AT156: VV | AU156: 2 | AV156: 2 | AW156: True | AX156: 0 | AY156: ROZPOCET
D157: VV | F157: Součet | H157: 25.408 | AT157: VV | AU157: 2 | AV157: 4 | AW157: True | AX157: 1 | AY157: ROZPOCET
C158: 5 | D158: K | E158: 342264098 | F158: Příplatek k podhledu sádrokart. za plochu do 10 m2 pro plochy 5 - 10 m2 | G158: m2 | H158: 25.408 | J158: =ROUND(I158*H158,2) -> 0 | N158: základní | P158: =O158*H158 -> 0 | Q158: 0 | R158: =Q158*H158 -> 0 | S158: 0 | T158: =S158*H158 -> 0 | AR158: 4 | AT158: K | AU158: 2 | AY158: ROZPOCET | BE158: =IF(N158="základní",J158,0) -> 0 | BF158: =IF(N158="snížená",J158,0) -> 0 | BG158: =IF(N158="zákl. přenesená",J158,0) -> 0 | BH158: =IF(N158="sníž. přenesená",J158,0) -> 0 | BI158: =IF(N158="nulová",J158,0) -> 0 | BJ158: 1 | BK158: =ROUND(I158*H158,2) -> 0 | BL158: 4 | BM158: 5
D159: D | E159: 61 | F159: Úpravy povrchů vnitřní | J159: =BK159 -> 0 | P159: =SUM(P160:P249) -> 0 | R159: =SUM(R160:R249) -> 3.2859496 | T159: =SUM(T160:T249) -> 0 | AR159: 1 | AT159: D | AU159: 1 | AY159: ROZPOCET | BK159: =SUM(BK160:BK249) -> 0
C160: 6 | D160: K | E160: 610991111 | F160: Zakrývání výplní vnitřních otvorů | G160: m2 | H160: 109.248 | J160: =ROUND(I160*H160,2) -> 0 | N160: základní | P160: =O160*H160 -> 0 | Q160: 4e-05 | R160: =Q160*H160 -> 0.00436992 | S160: 0 | T160: =S160*H160 -> 0 | AR160: 4 | AT160: K | AU160: 2 | AY160: ROZPOCET | BE160: =IF(N160="základní",J160,0) -> 0 | BF160: =IF(N160="snížená",J160,0) -> 0 | BG160: =IF(N160="zákl. přenesená",J160,0) -> 0 | BH160: =IF(N160="sníž. přenesená",J160,0) -> 0 | BI160: =IF(N160="nulová",J160,0) -> 0 | BJ160: 1 | BK160: =ROUND(I160*H160,2) -> 0 | BL160: 4 | BM160: 6
D161: VV | F161: "1NP" | AT161: VV | AU161: 2 | AV161: 1 | AW161: True | AX161: 0 | AY161: ROZPOCET
D162: VV | F162: "mč 101 vnější omítka :" 0 | H162: 0 | AT162: VV | AU162: 2 | AV162: 2 | AW162: True | AX162: 0 | AY162: ROZPOCET
D163: VV | F163: "mč 102 :" (0,8*2+1,6*2,1+1,5*0,9*2) | H163: 7.66 | AT163: VV | AU163: 2 | AV163: 2 | AW163: True | AX163: 0 | AY163: ROZPOCET
D164: VV | F164: "mč 103 :" (0,7*2,0) | H164: 1.4 | AT164: VV | AU164: 2 | AV164: 2 | AW164: True | AX164: 0 | AY164: ROZPOCET
D165: VV | F165: "mč 104 :" (0,7*2,0) | H165: 1.4 | AT165: VV | AU165: 2 | AV165: 2 | AW165: True | AX165: 0 | AY165: ROZPOCET
D166: VV | F166: "mč 105+112 :" (0,8*2,0*3) | H166: 4.8 | AT166: VV | AU166: 2 | AV166: 2 | AW166: True | AX166: 0 | AY166: ROZPOCET
...

Sheet D.1.4.g - ESIL
AT2: {f01875cb-b885-49db-af99-8439a271619c}
AT3: 2
D4: KRYCÍ LIST SOUPISU PRACÍ | M4: v --- níže se nacházejí doplnkové a pomocné údaje k sestavám --- v | AT4: False
D6: Stavba:
E7: ='Rekapitulace stavby'!K6 -> Rekonstrukce elektroinstalace v budově DDM Astra Zlín
D8: Objekt:
E9: D.1.4.g - Zařízení silnoproudé elektrotechniky
D11: KSO: | I11: CC-CZ:
D12: Místo: | I12: Datum: | J12: ='Rekapitulace stavby'!AN8 -> 1. 12. 2022
D14: Zadavatel: | I14: IČ: | J14: =IF('Rekapitulace stavby'!AN10="","",'Rekapitulace stavby'!AN10)
E15: =IF('Rekapitulace stavby'!E11="","",'Rekapitulace stavby'!E11) | I15: DIČ: | J15: =IF('Rekapitulace stavby'!AN11="","",'Rekapitulace stavby'!AN11)
D17: Uchazeč: | I17: IČ: | J17: ='Rekapitulace stavby'!AN13 -> Vyplň údaj
E18: ='Rekapitulace stavby'!E14 -> Vyplň údaj | I18: DIČ: | J18: ='Rekapitulace stavby'!AN14 -> Vyplň údaj
D20: Projektant: | I20: IČ: | J20: =IF('Rekapitulace stavby'!AN16="","",'Rekapitulace stavby'!AN16)
E21: =IF('Rekapitulace stavby'!E17="","",'Rekapitulace stavby'!E17) | I21: DIČ: | J21: =IF('Rekapitulace stavby'!AN17="","",'Rekapitulace stavby'!AN17)
D23: Zpracovatel: | I23: IČ: | J23: =IF('Rekapitulace stavby'!AN19="","",'Rekapitulace stavby'!AN19)
E24: =IF('Rekapitulace stavby'!E20="","",'Rekapitulace stavby'!E20) | I24: DIČ: | J24: =IF('Rekapitulace stavby'!AN20="","",'Rekapitulace stavby'!AN20)
D26: Poznámka:
D30: Cena bez DPH | J30: =ROUND(J124, 2) -> 0
F32: Základ daně | I32: Sazba daně | J32: Výše daně
D33: DPH | E33: základní | F33: =ROUND((SUM(BE124:BE300)), 2) -> 0 | I33: 0.21 | J33: =ROUND(((SUM(BE124:BE300))*I33), 2) -> 0
E34: snížená | F34: =ROUND((SUM(BF124:BF300)), 2) -> 0 | I34: 0.15 | J34: =ROUND(((SUM(BF124:BF300))*I34), 2) -> 0
E35: zákl. přenesená | F35: =ROUND((SUM(BG124:BG300)), 2) -> 0 | I35: 0.21 | J35: =0 -> 0
E36: sníž. přenesená | F36: =ROUND((SUM(BH124:BH300)), 2) -> 0 | I36: 0.15 | J36: =0 -> 0
E37: nulová | F37: =ROUND((SUM(BI124:BI300)), 2) -> 0 | I37: 0 | J37: =0 -> 0
D39: Cena s DPH | G39: v | H39: CZK | J39: =SUM(J30:J37) -> 0
D50: Projektant | G50: Zpracovatel
D61: Datum a podpis: | F61: Razítko | G61: Datum a podpis: | J61: Razítko
D65: Objednavatel | G65: Uchazeč
D76: Datum a podpis: | F76: Razítko | G76: Datum a podpis: | J76: Razítko
C82: REKAPITULACE ČLENĚNÍ SOUPISU PRACÍ
C84: Stavba:
E85: =E7 -> Rekonstrukce elektroinstalace v budově DDM Astra Zlín
C86: Objekt:
E87: =E9 -> D.1.4.g - Zařízení silnoproudé elektrotechniky
C89: Místo: | F89: =F12 | I89: Datum: | J89: =IF(J12="","",J12) -> 1. 12. 2022
C91: Zadavatel: | F91: =E15 | I91: Projektant: | J91: =E21
C92: Uchazeč: | F92: =IF(E18="","",E18) -> Vyplň údaj | I92: Zpracovatel: | J92: =E24
C94: Kód dílu - Popis | J94: Cena celkem [CZK]
C96: Náklady ze soupisu prací | J96: =J124 -> 0 | AU96: -1
D97: PSV - Práce a dodávky PSV | J97: =J125 -> 0
D98: 741 - Elektroinstalace - silnoproud | J98: =J126 -> 0
D99: 7411 - Rozvaděče | J99: =J127 -> 0
D100: 7412 - Osvětlení | J100: =J138 -> 0
D101: 7413 - Kabeláž | J101: =J158 -> 0
D102: 7414 - Elektroinstalační materiál | J102: =J189 -> 0
D103: 7415 - Kabelové trasy | J103: =J254 -> 0
D104: 7416 - Ostatní | J104: =J290 -> 0
C111: SOUPIS PRACÍ
C113: Stavba:
E114: =E7 -> Rekonstrukce elektroinstalace v budově DDM Astra Zlín
C115: Objekt:
E116: =E9 -> D.1.4.g - Zařízení silnoproudé elektrotechniky
C118: Místo: | F118: =F12 | I118: Datum: | J118: =IF(J12="","",J12) -> 1. 12. 2022
C120: Zadavatel: | F120: =E15 | I120: Projektant: | J120: =E21
C121: Uchazeč: | F121: =IF(E18="","",E18) -> Vyplň údaj | I121: Zpracovatel: | J121: =E24
C123: PČ | D123: Typ | E123: Kód | F123: Popis | G123: MJ | H123: Množství | I123: J.cena [CZK] | J123: Cena celkem [CZK] | K123: Cenová soustava | N123: DPH | O123: J. Nh [h] | P123: Nh celkem [h] | Q123: J. hmotnost [t] | R123: Hmotnost celkem [t] | S123: J. suť [t] | T123: Suť Celkem [t]
C124: Náklady soupisu celkem | J124: =BK124 -> 0 | P124: =P125 -> 0 | R124: =R125 -> 0 | T124: =T125 -> 1.42552 | AT124: D | AU124: -1 | BK124: =BK125 -> 0
D125: D | E125: PSV | F125: Práce a dodávky PSV | J125: =BK125 -> 0 | P125: =P126 -> 0 | R125: =R126 -> 0 | T125: =T126 -> 1.42552 | AR125: 2 | AT125: D | AU125: 0 | AY125: ROZPOCET | BK125: =BK126 -> 0
D126: D | E126: 741 | F126: Elektroinstalace - silnoproud | J126: =BK126 -> 0 | P126: =P127+P138+P158+P189+P254+P290 -> 0 | R126: =R127+R138+R158+R189+R254+R290 -> 0 | T126: =T127+T138+T158+T189+T254+T290 -> 1.42552 | AR126: 2 | AT126: D | AU126: 1 | AY126: ROZPOCET | BK126: =BK127+BK138+BK158+BK189+BK254+BK290 -> 0
D127: D | E127: 7411 | F127: Rozvaděče | J127: =BK127 -> 0 | P127: =SUM(P128:P137) -> 0 | R127: =SUM(R128:R137) -> 0 | T127: =SUM(T128:T137) -> 0 | AR127: 2 | AT127: D | AU127: 2 | AY127: ROZPOCET | BK127: =SUM(BK128:BK137) -> 0
C128: 1 | D128: K | E128: 741210002 | F128: Montáž rozvodnice oceloplechová nebo plastová běžná do 50 kg | G128: kus | H128: 1 | J128: =ROUND(I128*H128,2) -> 0 | N128: základní | P128: =O128*H128 -> 0 | Q128: 0 | R128: =Q128*H128 -> 0 | S128: 0 | T128: =S128*H128 -> 0 | AR128: 16 | AT128: K | AU128: 3 | AY128: ROZPOCET | BE128: =IF(N128="základní",J128,0) -> 0 | BF128: =IF(N128="snížená",J128,0) -> 0 | BG128: =IF(N128="zákl. přenesená",J128,0) -> 0 | BH128: =IF(N128="sníž. přenesená",J128,0) -> 0 | BI128: =IF(N128="nulová",J128,0) -> 0 | BJ128: 1 | BK128: =ROUND(I128*H128,2) -> 0 | BL128: 16 | BM128: 250095151
C129: 2 | D129: M | E129: R201 | F129: Rozvaděč RH, pro zapuštěnou montáž, neprůhledné dveře, počet řad 5, počet modulů v řadě 24, krytí IP30, PE+N, barva RAL9003, materiál : ocel-plech, výzbroj dle výkresové dokumentace | G129: kus | H129: 1 | J129: =ROUND(I129*H129,2) -> 0 | N129: základní | P129: =O129*H129 -> 0 | Q129: 0 | R129: =Q129*H129 -> 0 | S129: 0 | T129: =S129*H129 -> 0 | AR129: 32 | AT129: M | AU129: 3 | AY129: ROZPOCET | BE129: =IF(N129="základní",J129,0) -> 0 | BF129: =IF(N129="snížená",J129,0) -> 0 | BG129: =IF(N129="zákl. přenesená",J129,0) -> 0 | BH129: =IF(N129="sníž. přenesená",J129,0) -> 0 | BI129: =IF(N129="nulová",J129,0) -> 0 | BJ129: 1 | BK129: =ROUND(I129*H129,2) -> 0 | BL129: 16 | BM129: 1871503518
C130: 3 | D130: K | E130: 741210001 | F130: Montáž rozvodnice oceloplechová nebo plastová běžná do 20 kg | G130: kus | H130: 7 | J130: =ROUND(I130*H130,2) -> 0 | N130: základní | P130: =O130*H130 -> 0 | Q130: 0 | R130: =Q130*H130 -> 0 | S130: 0 | T130: =S130*H130 -> 0 | AR130: 16 | AT130: K | AU130: 3 | AY130: ROZPOCET | BE130: =IF(N130="základní",J130,0) -> 0 | BF130: =IF(N130="snížená",J130,0) -> 0 | BG130: =IF(N130="zákl. přenesená",J130,0) -> 0 | BH130: =IF(N130="sníž. přenesená",J130,0) -> 0 | BI130: =IF(N130="nulová",J130,0) -> 0 | BJ130: 1 | BK130: =ROUND(I130*H130,2) -> 0 | BL130: 16 | BM130: -1389209775
C131: 4 | D131: M | E131: R206 | F131: Elektroměrový rozvaděč pro přímé měření energií, 1x 3f elektroměr s HDO, jistič B32/3, přívod do 16mm2, zatížení do 40A, krytí IP43, provedení pro EG.D | G131: kus | H131: 1 | J131: =ROUND(I131*H131,2) -> 0 | N131: základní | P131: =O131*H131 -> 0 | Q131: 0 | R131: =Q131*H131 -> 0 | S131: 0 | T131: =S131*H131 -> 0 | AR131: 32 | AT131: M | AU131: 3 | AY131: ROZPOCET | BE131: =IF(N131="základní",J131,0) -> 0 | BF131: =IF(N131="snížená",J131,0) -> 0 | BG131: =IF(N131="zákl. přenesená",J131,0) -> 0 | BH131: =IF(N131="sníž. přenesená",J131,0) -> 0 | BI131: =IF(N131="nulová",J131,0) -> 0 | BJ131: 1 | BK131: =ROUND(I131*H131,2) -> 0 | BL131: 16 | BM131: -626905847
C132: 5 | D132: M | E132: R202 | F132: Rozvaděč RP2.1, plastový rozvaděč na omítku, bílé plast. dveře, 3 řady, 39 modulů, IP30, výzbroj dle výkresové dokumentace | G132: kus | H132: 1 | J132: =ROUND(I132*H132,2) -> 0 | N132: základní | P132: =O132*H132 -> 0 | Q132: 0 | R132: =Q132*H132 -> 0 | S132: 0 | T132: =S132*H132 -> 0 | AR132: 32 | AT132: M | AU132: 3 | AY132: ROZPOCET | BE132: =IF(N132="základní",J132,0) -> 0 | BF132: =IF(N132="snížená",J132,0) -> 0 | BG132: =IF(N132="zákl. přenesená",J132,0) -> 0 | BH132: =IF(N132="sníž. přenesená",J132,0) -> 0 | BI132: =IF(N132="nulová",J132,0) -> 0 | BJ132: 1 | BK132: =ROUND(I132*H132,2) -> 0 | BL132: 16 | BM132: -1816288100
C133: 6 | D133: M | E133: R203 | F133: Rozvaděč RP2.2, plastový rozvaděč na omítku, bílé plast. dveře, 2 řady, 26 modulů, IP30, výzbroj dle výkresové dokumentace | G133: kus | H133: 1 | J133: =ROUND(I133*H133,2) -> 0 | N133: základní | P133: =O133*H133 -> 0 | Q133: 0 | R133: =Q133*H133 -> 0 | S133: 0 | T133: =S133*H133 -> 0 | AR133: 32 | AT133: M | AU133: 3 | AY133: ROZPOCET | BE133: =IF(N133="základní",J133,0) -> 0 | BF133: =IF(N133="snížená",J133,0) -> 0 | BG133: =IF(N133="zákl. přenesená",J133,0) -> 0 | BH133: =IF(N133="sníž. přenesená",J133,0) -> 0 | BI133: =IF(N133="nulová",J133,0) -> 0 | BJ133: 1 | BK133: =ROUND(I133*H133,2) -> 0 | BL133: 16 | BM133: -1357785553
C134: 7 | D134: M | E134: R204 | F134: Rozvaděč RP3.1, pod omítku, plech.dveře, šroubová svorkovnice, řad 3, modulů 36+6, IP30, výzbroj dle výkresové dokumentace | G134: kus | H134: 1 | J134: =ROUND(I134*H134,2) -> 0 | N134: základní | P134: =O134*H134 -> 0 | Q134: 0 | R134: =Q134*H134 -> 0 | S134: 0 | T134: =S134*H134 -> 0 | AR134: 32 | AT134: M | AU134: 3 | AY134: ROZPOCET | BE134: =IF(N134="základní",J134,0) -> 0 | BF134: =IF(N134="snížená",J134,0) -> 0 | BG134: =IF(N134="zákl. přenesená",J134,0) -> 0 | BH134: =IF(N134="sníž. přenesená",J134,0) -> 0 | BI134: =IF(N134="nulová",J134,0) -> 0 | BJ134: 1 | BK134: =ROUND(I134*H134,2) -> 0 | BL134: 16 | BM134: -1030385906
C135: 8 | D135: M | E135: R205 | F135: Rozvaděč RPS1.1, pro nástěnnou montáž, krytí IP65, průhledné dveře, počet řad 2, počet modulů v řadě 12, PE+N, barva šedá, materiál ABS, výzbroj dle výkresové dokumentace | G135: kus | H135: 1 | J135: =ROUND(I135*H135,2) -> 0 | N135: základní | P135: =O135*H135 -> 0 | Q135: 0 | R135: =Q135*H135 -> 0 | S135: 0 | T135: =S135*H135 -> 0 | AR135: 32 | AT135: M | AU135: 3 | AY135: ROZPOCET | BE135: =IF(N135="základní",J135,0) -> 0 | BF135: =IF(N135="snížená",J135,0) -> 0 | BG135: =IF(N135="zákl. přenesená",J135,0) -> 0 | BH135: =IF(N135="sníž. přenesená",J135,0) -> 0 | BI135: =IF(N135="nulová",J135,0) -> 0 | BJ135: 1 | BK135: =ROUND(I135*H135,2) -> 0 | BL135: 16 | BM135: 29761109
C136: 9 | D136: M | E136: R217 | F136: Rozvaděč R-SKLAD, pro nástěnnou montáž, krytí IP65, průhledné dveře, počet řad 3, počet modulů v řadě 12, PE+N, barva šedá, materiál ABS, výzbroj dle výkresové dokumentace | G136: kus | H136: 1 | J136: =ROUND(I136*H136,2) -> 0 | N136: základní | P136: =O136*H136 -> 0 | Q136: 0 | R136: =Q136*H136 -> 0 | S136: 0 | T136: =S136*H136 -> 0 | AR136: 32 | AT136: M | AU136: 3 | AY136: ROZPOCET | BE136: =IF(N136="základní",J136,0) -> 0 | BF136: =IF(N136="snížená",J136,0) -> 0 | BG136: =IF(N136="zákl. přenesená",J136,0) -> 0 | BH136: =IF(N136="sníž. přenesená",J136,0) -> 0 | BI136: =IF(N136="nulová",J136,0) -> 0 | BJ136: 1 | BK136: =ROUND(I136*H136,2) -> 0 | BL136: 16 | BM136: 1624375939
C137: 10 | D137: M | E137: R214 | F137: Rozvaděč plastový vestavný 295x255x115mm, zámek čtyřhran 6x6mm, prázdná skříň - pro TOTAL STOP | G137: kus | H137: 1 | J137: =ROUND(I137*H137,2) -> 0 | N137: základní | P137: =O137*H137 -> 0 | Q137: 0 | R137: =Q137*H137 -> 0 | S137: 0 | T137: =S137*H137 -> 0 | AR137: 32 | AT137: M | AU137: 3 | AY137: ROZPOCET | BE137: =IF(N137="základní",J137,0) -> 0 | BF137: =IF(N137="snížená",J137,0) -> 0 | BG137: =IF(N137="zákl. přenesená",J137,0) -> 0 | BH137: =IF(N137="sníž. přenesená",J137,0) -> 0 | BI137: =IF(N137="nulová",J137,0) -> 0 | BJ137: 1 | BK137: =ROUND(I137*H137,2) -> 0 | BL137: 16 | BM137: -1630250244
D138: D | E138: 7412 | F138: Osvětlení | J138: =BK138 -> 0 | P138: =SUM(P139:P157) -> 0 | R138: =SUM(R139:R157) -> 0 | T138: =SUM(T139:T157) -> 0 | AR138: 2 | AT138: D | AU138: 2 | AY138: ROZPOCET | BK138: =SUM(BK139:BK157) -> 0
C139: 11 | D139: K | E139: 741372062 | F139: Montáž svítidlo LED interiérové přisazené stropní hranaté nebo kruhové přes 0,09 do 0,36 m2 se zapojením vodičů | G139: kus | H139: 92 | J139: =ROUND(I139*H139,2) -> 0 | N139: základní | P139: =O139*H139 -> 0 | Q139: 0 | R139: =Q139*H139 -> 0 | S139: 0 | T139: =S139*H139 -> 0 | AR139: 16 | AT139: K | AU139: 3 | AY139: ROZPOCET | BE139: =IF(N139="základní",J139,0) -> 0 | BF139: =IF(N139="snížená",J139,0) -> 0 | BG139: =IF(N139="zákl. přenesená",J139,0) -> 0 | BH139: =IF(N139="sníž. přenesená",J139,0) -> 0 | BI139: =IF(N139="nulová",J139,0) -> 0 | BJ139: 1 | BK139: =ROUND(I139*H139,2) -> 0 | BL139: 16 | BM139: -1285569555
C140: 12 | D140: M | E140: R01 | F140: LED PANEL PŘISAZENÝ, 230/34W, 4500lm, 3800K, 600x600mm, UGR<19, IP40, ozn. A0 | G140: kus | H140: 2 | J140: =ROUND(I140*H140,2) -> 0 | N140: základní | P140: =O140*H140 -> 0 | Q140: 0 | R140: =Q140*H140 -> 0 | S140: 0 | T140: =S140*H140 -> 0 | AR140: 32 | AT140: M | AU140: 3 | AY140: ROZPOCET | BE140: =IF(N140="základní",J140,0) -> 0 | BF140: =IF(N140="snížená",J140,0) -> 0 | BG140: =IF(N140="zákl. přenesená",J140,0) -> 0 | BH140: =IF(N140="sníž. přenesená",J140,0) -> 0 | BI140: =IF(N140="nulová",J140,0) -> 0 | BJ140: 1 | BK140: =ROUND(I140*H140,2) -> 0 | BL140: 16 | BM140: -1908739486
C141: 13 | D141: M | E141: R02 | F141: LED PANEL PŘISAZENÝ, 230/50W, 6400lm, 3800K, 600x600mm, UGR<19, IP40, ozn. A1 | G141: kus | H141: 4 | J141: =ROUND(I141*H141,2) -> 0 | N141: základní | P141: =O141*H141 -> 0 | Q141: 0 | R141: =Q141*H141 -> 0 | S141: 0 | T141: =S141*H141 -> 0 | AR141: 32 | AT141: M | AU141: 3 | AY141: ROZPOCET | BE141: =IF(N141="základní",J141,0) -> 0 | BF141: =IF(N141="snížená",J141,0) -> 0 | BG141: =IF(N141="zákl. přenesená",J141,0) -> 0 | BH141: =IF(N141="sníž. přenesená",J141,0) -> 0 | BI141: =IF(N141="nulová",J141,0) -> 0 | BJ141: 1 | BK141: =ROUND(I141*H141,2) -> 0 | BL141: 16 | BM141: -1728164975
C142: 14 | D142: M | E142: R03 | F142: LED PANEL PŘISAZENÝ, 230/50W, 6400lm, 3800K, 600x600mm, DALI stmívatelný, UGR<19, IP40, ozn. A1D | G142: kus | H142: 8 | J142: =ROUND(I142*H142,2) -> 0 | N142: základní | P142: =O142*H142 -> 0 | Q142: 0 | R142: =Q142*H142 -> 0 | S142: 0 | T142: =S142*H142 -> 0 | AR142: 32 | AT142: M | AU142: 3 | AY142: ROZPOCET | BE142: =IF(N142="základní",J142,0) -> 0 | BF142: =IF(N142="snížená",J142,0) -> 0 | BG142: =IF(N142="zákl. přenesená",J142,0) -> 0 | BH142: =IF(N142="sníž. přenesená",J142,0) -> 0 | BI142: =IF(N142="nulová",J142,0) -> 0 | BJ142: 1 | BK142: =ROUND(I142*H142,2) -> 0 | BL142: 16 | BM142: 1987480148
C143: 15 | D143: M | E143: R04 | F143: LED PANEL PŘISAZENÝ, 230V/35W, 4500lm, 3800K, 1200x300mm, DALI stmívatelný, UGR<19, IP40, ozn. A2D | G143: kus | H143: 6 | J143: =ROUND(I143*H143,2) -> 0 | N143: základní | P143: =O143*H143 -> 0 | Q143: 0 | R143: =Q143*H143 -> 0 | S143: 0 | T143: =S143*H143 -> 0 | AR143: 32 | AT143: M | AU143: 3 | AY143: ROZPOCET | BE143: =IF(N143="základní",J143,0) -> 0 | BF143: =IF(N143="snížená",J143,0) -> 0 | BG143: =IF(N143="zákl. přenesená",J143,0) -> 0 | BH143: =IF(N143="sníž. přenesená",J143,0) -> 0 | BI143: =IF(N143="nulová",J143,0) -> 0 | BJ143: 1 | BK143: =ROUND(I143*H143,2) -> 0 | BL143: 16 | BM143: -1084726124
C144: 16 | D144: M | E144: R05 | F144: LED PANEL PŘISAZENÝ, 230V/50W, 6100lm, 3800K, 1200x300mm, UGR<19, IP40, ozn. A3 | G144: kus | H144: 10 | J144: =ROUND(I144*H144,2) -> 0 | N144: základní | P144: =O144*H144 -> 0 | Q144: 0 | R144: =Q144*H144 -> 0 | S144: 0 | T144: =S144*H144 -> 0 | AR144: 32 | AT144: M | AU144: 3 | AY144: ROZPOCET | BE144: =IF(N144="základní",J144,0) -> 0 | BF144: =IF(N144="snížená",J144,0) -> 0 | BG144: =IF(N144="zákl. přenesená",J144,0) -> 0 | BH144: =IF(N144="sníž. přenesená",J144,0) -> 0 | BI144: =IF(N144="nulová",J144,0) -> 0 | BJ144: 1 | BK144: =ROUND(I144*H144,2) -> 0 | BL144: 16 | BM144: 1020164099
C145: 17 | D145: M | E145: R06 | F145: LED PANEL PŘISAZENÝ, 230V/50W, 6100lm, 3800K, 1200x300mm, DALI stmívatelný, UGR<19, IP40, ozn. A3D | G145: kus | H145: 12 | J145: =ROUND(I145*H145,2) -> 0 | N145: základní | P145: =O145*H145 -> 0 | Q145: 0 | R145: =Q145*H145 -> 0 | S145: 0 | T145: =S145*H145 -> 0 | AR145: 32 | AT145: M | AU145: 3 | AY145: ROZPOCET | BE145: =IF(N145="základní",J145,0) -> 0 | BF145: =IF(N145="snížená",J145,0) -> 0 | BG145: =IF(N145="zákl. přenesená",J145,0) -> 0 | BH145: =IF(N145="sníž. přenesená",J145,0) -> 0 | BI145: =IF(N145="nulová",J145,0) -> 0 | BJ145: 1 | BK145: =ROUND(I145*H145,2) -> 0 | BL145: 16 | BM145: -1641093651
C146: 18 | D146: M | E146: R07 | F146: LED SVÍTIDLO PŘISAZENÉ, 230V/25W, 3800lm, 4000K, 1210x110mm, IP54, ozn. B1 | G146: kus | H146: 16 | J146: =ROUND(I146*H146,2) -> 0 | N146: základní | P146: =O146*H146 -> 0 | Q146: 0 | R146: =Q146*H146 -> 0 | S146: 0 | T146: =S146*H146 -> 0 | AR146: 32 | AT146: M | AU146: 3 | AY146: ROZPOCET | BE146: =IF(N146="základní",J146,0) -> 0 | BF146: =IF(N146="snížená",J146,0) -> 0 | BG146: =IF(N146="zákl. přenesená",J146,0) -> 0 | BH146: =IF(N146="sníž. přenesená",J146,0) -> 0 | BI146: =IF(N146="nulová",J146,0) -> 0 | BJ146: 1 | BK146: =ROUND(I146*H146,2) -> 0 | BL146: 16 | BM146: -1860524548
C147: 19 | D147: M | E147: R08 | F147: LED SVÍTIDLO PŘISAZENÉ, 230V/47W, 7200lm, 4000K, 1500x110mm, IP54, ozn. B3 | G147: kus | H147: 4 | J147: =ROUND(I147*H147,2) -> 0 | N147: základní | P147: =O147*H147 -> 0 | Q147: 0 | R147: =Q147*H147 -> 0 | S147: 0 | T147: =S147*H147 -> 0 | AR147: 32 | AT147: M | AU147: 3 | AY147: ROZPOCET | BE147: =IF(N147="základní",J147,0) -> 0 | BF147: =IF(N147="snížená",J147,0) -> 0 | BG147: =IF(N147="zákl. přenesená",J147,0) -> 0 | BH147: =IF(N147="sníž. přenesená",J147,0) -> 0 | BI147: =IF(N147="nulová",J147,0) -> 0 | BJ147: 1 | BK147: =ROUND(I147*H147,2) -> 0 | BL147: 16 | BM147: 967122065
C148: 20 | D148: M | E148: R09 | F148: LED SVÍTIDLO PŘISAZENÉ, 230V/47W, 7200lm, 4000K, 1500x110mm, DALI stmívatelný, IP54, ozn. B3D | G148: kus | H148: 12 | J148: =ROUND(I148*H148,2) -> 0 | N148: základní | P148: =O148*H148 -> 0 | Q148: 0 | R148: =Q148*H148 -> 0 | S148: 0 | T148: =S148*H148 -> 0 | AR148: 32 | AT148: M | AU148: 3 | AY148: ROZPOCET | BE148: =IF(N148="základní",J148,0) -> 0 | BF148: =IF(N148="snížená",J148,0) -> 0 | BG148: =IF(N148="zákl. přenesená",J148,0) -> 0 | BH148: =IF(N148="sníž. přenesená",J148,0) -> 0 | BI148: =IF(N148="nulová",J148,0) -> 0 | BJ148: 1 | BK148: =ROUND(I148*H148,2) -> 0 | BL148: 16 | BM148: -1946389568
C149: 21 | D149: M | E149: R10 | F149: LED SVÍTIDLO PŘISAZENÉ, 230V/27W, 3000lm, 4000K, kryt opál PMMA Ø375mm, IP44, ozn. C1 | G149: kus | H149: 14 | J149: =ROUND(I149*H149,2) -> 0 | N149: základní | P149: =O149*H149 -> 0 | Q149: 0 | R149: =Q149*H149 -> 0 | S149: 0 | T149: =S149*H149 -> 0 | AR149: 32 | AT149: M | AU149: 3 | AY149: ROZPOCET | BE149: =IF(N149="základní",J149,0) -> 0 | BF149: =IF(N149="snížená",J149,0) -> 0 | BG149: =IF(N149="zákl. přenesená",J149,0) -> 0 | BH149: =IF(N149="sníž. přenesená",J149,0) -> 0 | BI149: =IF(N149="nulová",J149,0) -> 0 | BJ149: 1 | BK149: =ROUND(I149*H149,2) -> 0 | BL149: 16 | BM149: 2057700445
C150: 22 | D150: M | E150: R12 | F150: LED SVÍTIDLO PRACHOTĚSNÉ, 230V/20W, 2750lm, 4000K, 675x135mm, IP65, ozn. D1 | G150: kus | H150: 1 | J150: =ROUND(I150*H150,2) -> 0 | N150: základní | P150: =O150*H150 -> 0 | Q150: 0 | R150: =Q150*H150 -> 0 | S150: 0 | T150: =S150*H150 -> 0 | AR150: 32 | AT150: M | AU150: 3 | AY150: ROZPOCET | BE150: =IF(N150="základní",J150,0) -> 0 | BF150: =IF(N150="snížená",J150,0) -> 0 | BG150: =IF(N150="zákl. přenesená",J150,0) -> 0 | BH150: =IF(N150="sníž. přenesená",J150,0) -> 0 | BI150: =IF(N150="nulová",J150,0) -> 0 | BJ150: 1 | BK150: =ROUND(I150*H150,2) -> 0 | BL150: 16 | BM150: -4961298
... C157: 29 | D157: M | E157: R14 | F157: LED koupelnové osvětlení nad zrcadlo, 12W, 900lm, 4000K, IP44, 60cm, stříbrné, ozn. Z1 | G157: kus | H157: 2 | J157: =ROUND(I157*H157,2) -> 0 | N157: základní | P157: =O157*H157 -> 0 | Q157: 0 | R157: =Q157*H157 -> 0 | S157: 0 | T157: =S157*H157 -> 0 | AR157: 32 | AT157: M | AU157: 3 | AY157: ROZPOCET | BE157: =IF(N157="základní",J157,0) -> 0 | BF157: =IF(N157="snížená",J157,0) -> 0 | BG157: =IF(N157="zákl. přenesená",J157,0) -> 0 | BH157: =IF(N157="sníž. přenesená",J157,0) -> 0 | BI157: =IF(N157="nulová",J157,0) -> 0 | BJ157: 1 | BK157: =ROUND(I157*H157,2) -> 0 | BL157: 16 | BM157: -220876090
D158: D | E158: 7413 | F158: Kabeláž | J158: =BK158 -> 0 | P158: =SUM(P159:P188) -> 0 | R158: =SUM(R159:R188) -> 0 | T158: =SUM(T159:T188) -> 0 | AR158: 2 | AT158: D | AU158: 2 | AY158: ROZPOCET | BK158: =SUM(BK159:BK188) -> 0
C159: 30 | D159: K | E159: 741122624 | F159: Montáž kabel Cu plný kulatý žíla 4x16 až 25 mm2 uložený pevně (např. CYKY) | G159: m | H159: 32 | J159: =ROUND(I159*H159,2) -> 0 | N159: základní | P159: =O159*H159 -> 0 | Q159: 0 | R159: =Q159*H159 -> 0 | S159: 0 | T159: =S159*H159 -> 0 | AR159: 16 | AT159: K | AU159: 3 | AY159: ROZPOCET | BE159: =IF(N159="základní",J159,0) -> 0 | BF159: =IF(N159="snížená",J159,0) -> 0 | BG159: =IF(N159="zákl. přenesená",J159,0) -> 0 | BH159: =IF(N159="sníž. přenesená",J159,0) -> 0 | BI159: =IF(N159="nulová",J159,0) -> 0 | BJ159: 1 | BK159: =ROUND(I159*H159,2) -> 0 | BL159: 16 | BM159: 939299376
C160: 31 | D160: M | E160: R301 | F160: Kabel CYKY-J 4x16 | G160: m | H160: 12 | J160: =ROUND(I160*H160,2) -> 0 | N160: základní | P160: =O160*H160 -> 0 | Q160: 0 | R160: =Q160*H160 -> 0 | S160: 0 | T160: =S160*H160 -> 0 | AR160: 32 | AT160: M | AU160: 3 | AY160: ROZPOCET | BE160: =IF(N160="základní",J160,0) -> 0 | BF160: =IF(N160="snížená",J160,0) -> 0 | BG160: =IF(N160="zákl. přenesená",J160,0) -> 0 | BH160: =IF(N160="sníž. přenesená",J160,0) -> 0 | BI160: =IF(N160="nulová",J160,0) -> 0 | BJ160: 1 | BK160: =ROUND(I160*H160,2) -> 0 | BL160: 16 | BM160: 97777534
C161: 32 | D161: M | E161: R320 | F161: Kabel 1-CXKH-R 4x16, B2ca,s1,d1 | G161: m | H161: 20 | J161: =ROUND(I161*H161,2) -> 0 | N161: základní | P161: =O161*H161 -> 0 | Q161: 0 | R161: =Q161*H161 -> 0 | S161: 0 | T161: =S161*H161 -> 0 | AR161: 32 | AT161: M | AU161: 3 | AY161: ROZPOCET | BE161: =IF(N161="základní",J161,0) -> 0 | BF161: =IF(N161="snížená",J161,0) -> 0 | BG161: =IF(N161="zákl. přenesená",J161,0) -> 0 | BH161: =IF(N161="sníž. přenesená",J161,0) -> 0 | BI161: =IF(N161="nulová",J161,0) -> 0 | BJ161: 1 | BK161: =ROUND(I161*H161,2) -> 0 | BL161: 16 | BM161: 1095644276
C162: 33 | D162: K | E162: 741122642 | F162: Montáž kabel Cu plný kulatý žíla 5x4 až 6 mm2 uložený pevně (např. CYKY) | G162: m | H162: 135 | J162: =ROUND(I162*H162,2) -> 0 | N162: základní | P162: =O162*H162 -> 0 | Q162: 0 | R162: =Q162*H162 -> 0 | S162: 0 | T162: =S162*H162 -> 0 | AR162: 16 | AT162: K | AU162: 3 | AY162: ROZPOCET | BE162: =IF(N162="základní",J162,0) -> 0 | BF162: =IF(N162="snížená",J162,0) -> 0 | BG162: =IF(N162="zákl. přenesená",J162,0) -> 0 | BH162: =IF(N162="sníž. přenesená",J162,0) -> 0 | BI162: =IF(N162="nulová",J162,0) -> 0 | BJ162: 1 | BK162: =ROUND(I162*H162,2) -> 0 | BL162: 16 | BM162: -1837711176
C163: 34 | D163: M | E163: R302 | F163: Kabel CYKY-J 5x6 | G163: m | H163: 5 | J163: =ROUND(I163*H163,2) -> 0 | N163: základní | P163: =O163*H163 -> 0 | Q163: 0 | R163: =Q163*H163 -> 0 | S163: 0 | T163: =S163*H163 -> 0 | AR163: 32 | AT163: M | AU163: 3 | AY163: ROZPOCET | BE163: =IF(N163="základní",J163,0) -> 0 | BF163: =IF(N163="snížená",J163,0) -> 0 | BG163: =IF(N163="zákl. přenesená",J163,0) -> 0 | BH163: =IF(N163="sníž. přenesená",J163,0) -> 0 | BI163: =IF(N163="nulová",J163,0) -> 0 | BJ163: 1 | BK163: =ROUND(I163*H163,2) -> 0 | BL163: 16 | BM163: -618202696
C164: 35 | D164: M | E164: R321 | F164: Kabel 1-CXKH-R 5x6, B2ca,s1,d1 | G164: m | H164: 130 | J164: =ROUND(I164*H164,2) -> 0 | N164: základní | P164: =O164*H164 -> 0 | Q164: 0 | R164: =Q164*H164 -> 0 | S164: 0 | T164: =S164*H164 -> 0 | AR164: 32 | AT164: M | AU164: 3 | AY164: ROZPOCET | BE164: =IF(N164="základní",J164,0) -> 0 | BF164: =IF(N164="snížená",J164,0) -> 0 | BG164: =IF(N164="zákl. přenesená",J164,0) -> 0 | BH164: =IF(N164="sníž. přenesená",J164,0) -> 0 | BI164: =IF(N164="nulová",J164,0) -> 0 | BJ164: 1 | BK164: =ROUND(I164*H164,2) -> 0 | BL164: 16 | BM164: 22217366
C165: 36 | D165: K | E165: 741122641 | F165: Montáž kabel Cu plný kulatý žíla 5x1,5 až 2,5 mm2 uložený pevně (např. CYKY) | G165: m | H165: 215 | J165: =ROUND(I165*H165,2) -> 0 | N165: základní | P165: =O165*H165 -> 0 | Q165: 0 | R165: =Q165*H165 -> 0 | S165: 0 | T165: =S165*H165 -> 0 | AR165: 16 | AT165: K | AU165: 3 | AY165: ROZPOCET | BE165: =IF(N165="základní",J165,0) -> 0 | BF165: =IF(N165="snížená",J165,0) -> 0 | BG165: =IF(N165="zákl. přenesená",J165,0) -> 0 | BH165: =IF(N165="sníž. přenesená",J165,0) -> 0 | BI165: =IF(N165="nulová",J165,0) -> 0 | BJ165: 1 | BK165: =ROUND(I165*H165,2) -> 0 | BL165: 16 | BM165: 354371798
C166: 37 | D166: M | E166: R304 | F166: Kabel CYKY-J 5x2,5 | G166: m | H166: 30 | J166: =ROUND(I166*H166,2) -> 0 | N166: základní | P166: =O166*H166 -> 0 | Q166: 0 | R166: =Q166*H166 -> 0 | S166: 0 | T166: =S166*H166 -> 0 | AR166: 32 | AT166: M | AU166: 3 | AY166: ROZPOCET | BE166: =IF(N166="základní",J166,0) -> 0 | BF166: =IF(N166="snížená",J166,0) -> 0 | BG166: =IF(N166="zákl. přenesená",J166,0) -> 0 | BH166: =IF(N166="sníž. přenesená",J166,0) -> 0 | BI166: =IF(N166="nulová",J166,0) -> 0 | BJ166: 1 | BK166: =ROUND(I166*H166,2) -> 0 | BL166: 16 | BM166: -1608547429
C167: 38 | D167: M | E167: R325 | F167: Kabel 1-CXKH-R 5x2,5, B2ca,s1,d1 | G167: m | H167: 15 | J167: =ROUND(I167*H167,2) -> 0 | N167: základní | P167: =O167*H167 -> 0 | Q167: 0 | R167: =Q167*H167 -> 0 | S167: 0 | T167: =S167*H167 -> 0 | AR167: 32 | AT167: M | AU167: 3 | AY167: ROZPOCET | BE167: =IF(N167="základní",J167,0) -> 0 | BF167: =IF(N167="snížená",J167,0) -> 0 | BG167: =IF(N167="zákl. přenesená",J167,0) -> 0 | BH167: =IF(N167="sníž. přenesená",J167,0) -> 0 | BI167: =IF(N167="nulová",J167,0) -> 0 | BJ167: 1 | BK167: =ROUND(I167*H167,2) -> 0 | BL167: 16 | BM167: -2007241417
C168: 39 | D168: M | E168: R305 | F168: Kabel CYKY-J 5x1,5 | G168: m | H168: 100 | J168: =ROUND(I168*H168,2) -> 0 | N168: základní | P168: =O168*H168 -> 0 | Q168: 0 | R168: =Q168*H168 -> 0 | S168: 0 | T168: =S168*H168 -> 0 | AR168: 32 | AT168: M | AU168: 3 | AY168: ROZPOCET | BE168: =IF(N168="základní",J168,0) -> 0 | BF168: =IF(N168="snížená",J168,0) -> 0 | BG168: =IF(N168="zákl. přenesená",J168,0) -> 0 | BH168: =IF(N168="sníž. přenesená",J168,0) -> 0 | BI168: =IF(N168="nulová",J168,0) -> 0 | BJ168: 1 | BK168: =ROUND(I168*H168,2) -> 0 | BL168: 16 | BM168: -557478254
C169: 40 | D169: M | E169: R709 | F169: Kabel 1-CXKH-R 5x1,5, B2ca,s1,d1 | G169: m | H169: 70 | J169: =ROUND(I169*H169,2) -> 0 | N169: základní | P169: =O169*H169 -> 0 | Q169: 0 | R169: =Q169*H169 -> 0 | S169: 0 | T169: =S169*H169 -> 0 | AR169: 32 | AT169: M | AU169: 3 | AY169: ROZPOCET | BE169: =IF(N169="základní",J169,0) -> 0 | BF169: =IF(N169="snížená",J169,0) -> 0 | BG169: =IF(N169="zákl. přenesená",J169,0) -> 0 | BH169: =IF(N169="sníž. přenesená",J169,0) -> 0 | BI169: =IF(N169="nulová",J169,0) -> 0 | BJ169: 1 | BK169: =ROUND(I169*H169,2) -> 0 | BL169: 16 | BM169: 1773508164
C170: 41 | D170: K | E170: 741122621 | F170: Montáž kabel Cu plný kulatý žíla 4x1,5 až 4 mm2 uložený pevně (např. CYKY) | G170: m | H170: 15 | J170: =ROUND(I170*H170,2) -> 0 | N170: základní | P170: =O170*H170 -> 0 | Q170: 0 | R170: =Q170*H170 -> 0 | S170: 0 | T170: =S170*H170 -> 0 | AR170: 16 | AT170: K | AU170: 3 | AY170: ROZPOCET | BE170: =IF(N170="základní",J170,0) -> 0 | BF170: =IF(N170="snížená",J170,0) -> 0 | BG170: =IF(N170="zákl. přenesená",J170,0) -> 0 | BH170: =IF(N170="sníž. přenesená",J170,0) -> 0 | BI170: =IF(N170="nulová",J170,0) -> 0 | BJ170: 1 | BK170: =ROUND(I170*H170,2) -> 0 | BL170: 16 | BM170: -472861236
... C188: 59 | D188: K | E188: 741130001 | F188: Ukončení vodič izolovaný do 2,5 mm2 v rozváděči nebo na přístroji | G188: kus | H188: 320 | J188: =ROUND(I188*H188,2) -> 0 | N188: základní | P188: =O188*H188 -> 0 | Q188: 0 | R188: =Q188*H188 -> 0 | S188: 0 | T188: =S188*H188 -> 0 | AR188: 16 | AT188: K | AU188: 3 | AY188: ROZPOCET | BE188: =IF(N188="základní",J188,0) -> 0 | BF188: =IF(N188="snížená",J188,0) -> 0 | BG188: =IF(N188="zákl. přenesená",J188,0) -> 0 | BH188: =IF(N188="sníž. přenesená",J188,0) -> 0 | BI188: =IF(N188="nulová",J188,0) -> 0 | BJ188: 1 | BK188: =ROUND(I188*H188,2) -> 0 | BL188: 16 | BM188: -143024530
D189: D | E189: 7414 | F189: Elektroinstalační materiál | J189: =BK189 -> 0 | P189: =SUM(P190:P253) -> 0 | R189: =SUM(R190:R253) -> 0 | T189: =SUM(T190:T253) -> 0.07752 | AR189: 2 | AT189: D | AU189: 2 | AY189: ROZPOCET | BK189: =SUM(BK190:BK253) -> 0
...

Sheet D.1.4.h - ESLP
AT2: {880fa24e-e5e2-4afc-ac8e-aebb03838616}
AT3: 2
D4: KRYCÍ LIST SOUPISU PRACÍ | M4: v --- níže se nacházejí doplnkové a pomocné údaje k sestavám --- v | AT4: False
D6: Stavba:
E7: ='Rekapitulace stavby'!K6 -> Rekonstrukce elektroinstalace v budově DDM Astra Zlín
D8: Objekt:
E9: D.1.4.h - Zařízení slaboproudé elektrotechniky
D11: KSO: | I11: CC-CZ:
D12: Místo: | I12: Datum: | J12: ='Rekapitulace stavby'!AN8 -> 1. 12. 2022
D14: Zadavatel: | I14: IČ: | J14: =IF('Rekapitulace stavby'!AN10="","",'Rekapitulace stavby'!AN10)
E15: =IF('Rekapitulace stavby'!E11="","",'Rekapitulace stavby'!E11) | I15: DIČ: | J15: =IF('Rekapitulace stavby'!AN11="","",'Rekapitulace stavby'!AN11)
D17: Uchazeč: | I17: IČ: | J17: ='Rekapitulace stavby'!AN13 -> Vyplň údaj
E18: ='Rekapitulace stavby'!E14 -> Vyplň údaj | I18: DIČ: | J18: ='Rekapitulace stavby'!AN14 -> Vyplň údaj
D20: Projektant: | I20: IČ: | J20: =IF('Rekapitulace stavby'!AN16="","",'Rekapitulace stavby'!AN16)
E21: =IF('Rekapitulace stavby'!E17="","",'Rekapitulace stavby'!E17) | I21: DIČ: | J21: =IF('Rekapitulace stavby'!AN17="","",'Rekapitulace stavby'!AN17)
D23: Zpracovatel: | I23: IČ: | J23: =IF('Rekapitulace stavby'!AN19="","",'Rekapitulace stavby'!AN19)
E24: =IF('Rekapitulace stavby'!E20="","",'Rekapitulace stavby'!E20) | I24: DIČ: | J24: =IF('Rekapitulace stavby'!AN20="","",'Rekapitulace stavby'!AN20)
D26: Poznámka:
D30: Cena bez DPH | J30: =ROUND(J123, 2) -> 0
F32: Základ daně | I32: Sazba daně | J32: Výše daně
D33: DPH | E33: základní | F33: =ROUND((SUM(BE123:BE233)), 2) -> 0 | I33: 0.21 | J33: =ROUND(((SUM(BE123:BE233))*I33), 2) -> 0
E34: snížená | F34: =ROUND((SUM(BF123:BF233)), 2) -> 0 | I34: 0.15 | J34: =ROUND(((SUM(BF123:BF233))*I34), 2) -> 0
E35: zákl. přenesená | F35: =ROUND((SUM(BG123:BG233)), 2) -> 0 | I35: 0.21 | J35: =0 -> 0
E36: sníž. přenesená | F36: =ROUND((SUM(BH123:BH233)), 2) -> 0 | I36: 0.15 | J36: =0 -> 0
E37: nulová | F37: =ROUND((SUM(BI123:BI233)), 2) -> 0 | I37: 0 | J37: =0 -> 0
D39: Cena s DPH | G39: v | H39: CZK | J39: =SUM(J30:J37) -> 0
D50: Projektant | G50: Zpracovatel
D61: Datum a podpis: | F61: Razítko | G61: Datum a podpis: | J61: Razítko
D65: Objednavatel | G65: Uchazeč
D76: Datum a podpis: | F76: Razítko | G76: Datum a podpis: | J76: Razítko
C82: REKAPITULACE ČLENĚNÍ SOUPISU PRACÍ
C84: Stavba:
E85: =E7 -> Rekonstrukce elektroinstalace v budově DDM Astra Zlín
C86: Objekt:
E87: =E9 -> D.1.4.h - Zařízení slaboproudé elektrotechniky
C89: Místo: | F89: =F12 | I89: Datum: | J89: =IF(J12="","",J12) -> 1. 12. 2022
C91: Zadavatel: | F91: =E15 | I91: Projektant: | J91: =E21
C92: Uchazeč: | F92: =IF(E18="","",E18) -> Vyplň údaj | I92: Zpracovatel: | J92: =E24
C94: Kód dílu - Popis | J94: Cena celkem [CZK]
C96: Náklady ze soupisu prací | J96: =J123 -> 0 | AU96: -1
D97: PSV - Práce a dodávky PSV | J97: =J124 -> 0
D98: 742 - Elektroinstalace - slaboproud | J98: =J125 -> 0
D99: 7421 - Strukturovaná kabeláž | J99: =J126 -> 0
D100: 7422 - Poplachový zabezpečovací a tísňový systém | J100: =J161 -> 0
D101: 7423 - Domovní telefon | J101: =J185 -> 0
D102: 7424 - Společné trasy | J102: =J199 -> 0
D103: 7425 - Ostatní | J103: =J218 -> 0
C110: SOUPIS PRACÍ
C112: Stavba:
E113: =E7 -> Rekonstrukce elektroinstalace v budově DDM Astra Zlín
C114: Objekt:
E115: =E9 -> D.1.4.h - Zařízení slaboproudé elektrotechniky
C117: Místo: | F117: =F12 | I117: Datum: | J117: =IF(J12="","",J12) -> 1. 12. 2022
C119: Zadavatel: | F119: =E15 | I119: Projektant: | J119: =E21
C120: Uchazeč: | F120: =IF(E18="","",E18) -> Vyplň údaj | I120: Zpracovatel: | J120: =E24
C122: PČ | D122: Typ | E122: Kód | F122: Popis | G122: MJ | H122: Množství | I122: J.cena [CZK] | J122: Cena celkem [CZK] | K122: Cenová soustava | N122: DPH | O122: J. Nh [h] | P122: Nh celkem [h] | Q122: J. hmotnost [t] | R122: Hmotnost celkem [t] | S122: J. suť [t] | T122: Suť Celkem [t]
C123: Náklady soupisu celkem | J123: =BK123 -> 0 | P123: =P124 -> 0 | R123: =R124 -> 0 | T123: =T124 -> 0.46327 | AT123: D | AU123: -1 | BK123: =BK124 -> 0
D124: D | E124: PSV | F124: Práce a dodávky PSV | J124: =BK124 -> 0 | P124: =P125 -> 0 | R124: =R125 -> 0 | T124: =T125 -> 0.46327 | AR124: 2 | AT124: D | AU124: 0 | AY124: ROZPOCET | BK124: =BK125 -> 0
D125: D | E125: 742 | F125: Elektroinstalace - slaboproud | J125: =BK125 -> 0 | P125: =P126+P161+P185+P199+P218 -> 0 | R125: =R126+R161+R185+R199+R218 -> 0 | T125: =T126+T161+T185+T199+T218 -> 0.46327 | AR125: 2 | AT125: D | AU125: 1 | AY125: ROZPOCET | BK125: =BK126+BK161+BK185+BK199+BK218 -> 0
D126: D | E126: 7421 | F126: Strukturovaná kabeláž | J126: =BK126 -> 0 | P126: =SUM(P127:P160) -> 0 | R126: =SUM(R127:R160) -> 0 | T126: =SUM(T127:T160) -> 0.00627 | AR126: 2 | AT126: D | AU126: 2 | AY126: ROZPOCET | BK126: =SUM(BK127:BK160) -> 0
C127: 1 | D127: K | E127: 742330001 | F127: Montáž rozvaděče nástěnného | G127: kus | H127: 1 | J127: =ROUND(I127*H127,2) -> 0 | N127: základní | P127: =O127*H127 -> 0 | Q127: 0 | R127: =Q127*H127 -> 0 | S127: 0 | T127: =S127*H127 -> 0 | AR127: 16 | AT127: K | AU127: 3 | AY127: ROZPOCET | BE127: =IF(N127="základní",J127,0) -> 0 | BF127: =IF(N127="snížená",J127,0) -> 0 | BG127: =IF(N127="zákl. přenesená",J127,0) -> 0 | BH127: =IF(N127="sníž. přenesená",J127,0) -> 0 | BI127: =IF(N127="nulová",J127,0) -> 0 | BJ127: 1 | BK127: =ROUND(I127*H127,2) -> 0 | BL127: 16 | BM127: -1773846431
C128: 2 | D128: M | E128: R01 | F128: 19' rozvaděč jednodílný 500mm celoskleněné dveře 15U (770 mm) | G128: kus | H128: 1 | J128: =ROUND(I128*H128,2) -> 0 | N128: základní | P128: =O128*H128 -> 0 | Q128: 0 | R128: =Q128*H128 -> 0 | S128: 0 | T128: =S128*H128 -> 0 | AR128: 32 | AT128: M | AU128: 3 | AY128: ROZPOCET | BE128: =IF(N128="základní",J128,0) -> 0 | BF128: =IF(N128="snížená",J128,0) -> 0 | BG128: =IF(N128="zákl. přenesená",J128,0) -> 0 | BH128: =IF(N128="sníž. přenesená",J128,0) -> 0 | BI128: =IF(N128="nulová",J128,0) -> 0 | BJ128: 1 | BK128: =ROUND(I128*H128,2) -> 0 | BL128: 16 | BM128: -100817770
C129: 3 | D129: K | E129: 742330034 | F129: Montáž patch panelu 24 portů neosazeného | G129: kus | H129: 3 | J129: =ROUND(I129*H129,2) -> 0 | N129: základní | P129: =O129*H129 -> 0 | Q129: 0 | R129: =Q129*H129 -> 0 | S129: 0 | T129: =S129*H129 -> 0 | AR129: 16 | AT129: K | AU129: 3 | AY129: ROZPOCET | BE129: =IF(N129="základní",J129,0) -> 0 | BF129: =IF(N129="snížená",J129,0) -> 0 | BG129: =IF(N129="zákl. přenesená",J129,0) -> 0 | BH129: =IF(N129="sníž. přenesená",J129,0) -> 0 | BI129: =IF(N129="nulová",J129,0) -> 0 | BJ129: 1 | BK129: =ROUND(I129*H129,2) -> 0 | BL129: 16 | BM129: -1313894833
C130: 4 | D130: M | E130: R02 | F130: Modulární patch panel neosazený pro 24xRJ45 1U černý | G130: kus | H130: 3 | J130: =ROUND(I130*H130,2) -> 0 | N130: základní | P130: =O130*H130 -> 0 | Q130: 0 | R130: =Q130*H130 -> 0 | S130: 0 | T130: =S130*H130 -> 0 | AR130: 32 | AT130: M | AU130: 3 | AY130: ROZPOCET | BE130: =IF(N130="základní",J130,0) -> 0 | BF130: =IF(N130="snížená",J130,0) -> 0 | BG130: =IF(N130="zákl. přenesená",J130,0) -> 0 | BH130: =IF(N130="sníž. přenesená",J130,0) -> 0 | BI130: =IF(N130="nulová",J130,0) -> 0 | BJ130: 1 | BK130: =ROUND(I130*H130,2) -> 0 | BL130: 16 | BM130: -1020030705
C131: 5 | D131: K | E131: 742330023 | F131: Montáž vyvazovacího panelu 1U | G131: kus | H131: 3 | J131: =ROUND(I131*H131,2) -> 0 | N131: základní | P131: =O131*H131 -> 0 | Q131: 0 | R131: =Q131*H131 -> 0 | S131: 0 | T131: =S131*H131 -> 0 | AR131: 16 | AT131: K | AU131: 3 | AY131: ROZPOCET | BE131: =IF(N131="základní",J131,0) -> 0 | BF131: =IF(N131="snížená",J131,0) -> 0 | BG131: =IF(N131="zákl. přenesená",J131,0) -> 0 | BH131: =IF(N131="sníž. přenesená",J131,0) -> 0 | BI131: =IF(N131="nulová",J131,0) -> 0 | BJ131: 1 | BK131: =ROUND(I131*H131,2) -> 0 | BL131: 16 | BM131: -1522565798
C132: 6 | D132: M | E132: R03 | F132: 19' vyvazovací panel 1U černý | G132: kus | H132: 3 | J132: =ROUND(I132*H132,2) -> 0 | N132: základní | P132: =O132*H132 -> 0 | Q132: 0 | R132: =Q132*H132 -> 0 | S132: 0 | T132: =S132*H132 -> 0 | AR132: 32 | AT132: M | AU132: 3 | AY132: ROZPOCET | BE132: =IF(N132="základní",J132,0) -> 0 | BF132: =IF(N132="snížená",J132,0) -> 0 | BG132: =IF(N132="zákl. přenesená",J132,0) -> 0 | BH132: =IF(N132="sníž. přenesená",J132,0) -> 0 | BI132: =IF(N132="nulová",J132,0) -> 0 | BJ132: 1 | BK132: =ROUND(I132*H132,2) -> 0 | BL132: 16 | BM132: 2084642122
C133: 7 | D133: K | E133: 742330021 | F133: Montáž police do rozvaděče | G133: kus | H133: 1 | J133: =ROUND(I133*H133,2) -> 0 | N133: základní | P133: =O133*H133 -> 0 | Q133: 0 | R133: =Q133*H133 -> 0 | S133: 0 | T133: =S133*H133 -> 0 | AR133: 16 | AT133: K | AU133: 3 | AY133: ROZPOCET | BE133: =IF(N133="základní",J133,0) -> 0 | BF133: =IF(N133="snížená",J133,0) -> 0 | BG133: =IF(N133="zákl. přenesená",J133,0) -> 0 | BH133: =IF(N133="sníž. přenesená",J133,0) -> 0 | BI133: =IF(N133="nulová",J133,0) -> 0 | BJ133: 1 | BK133: =ROUND(I133*H133,2) -> 0 | BL133: 16 | BM133: 1718508956
C134: 8 | D134: M | E134: R04 | F134: 19' police perforovaná 1U | G134: kus | H134: 1 | J134: =ROUND(I134*H134,2) -> 0 | N134: základní | P134: =O134*H134 -> 0 | Q134: 0 | R134: =Q134*H134 -> 0 | S134: 0 | T134: =S134*H134 -> 0 | AR134: 32 | AT134: M | AU134: 3 | AY134: ROZPOCET | BE134: =IF(N134="základní",J134,0) -> 0 | BF134: =IF(N134="snížená",J134,0) -> 0 | BG134: =IF(N134="zákl. přenesená",J134,0) -> 0 | BH134: =IF(N134="sníž. přenesená",J134,0) -> 0 | BI134: =IF(N134="nulová",J134,0) -> 0 | BJ134: 1 | BK134: =ROUND(I134*H134,2) -> 0 | BL134: 16 | BM134: 328427698
C135: 9 | D135: K | E135: 742330022 | F135: Montáž napájecího panelu do rozvaděče | G135: kus | H135: 1 | J135: =ROUND(I135*H135,2) -> 0 | N135: základní | P135: =O135*H135 -> 0 | Q135: 0 | R135: =Q135*H135 -> 0 | S135: 0 | T135: =S135*H135 -> 0 | AR135: 16 | AT135: K | AU135: 3 | AY135: ROZPOCET | BE135: =IF(N135="základní",J135,0) -> 0 | BF135: =IF(N135="snížená",J135,0) -> 0 | BG135: =IF(N135="zákl. přenesená",J135,0) -> 0 | BH135: =IF(N135="sníž. přenesená",J135,0) -> 0 | BI135: =IF(N135="nulová",J135,0) -> 0 | BJ135: 1 | BK135: =ROUND(I135*H135,2) -> 0 | BL135: 16 | BM135: 43285432
C136: 10 | D136: M | E136: R05 | F136: Rozvodný panel 19”, 9 x 230V, vypínač | G136: kus | H136: 1 | J136: =ROUND(I136*H136,2) -> 0 | N136: základní | P136: =O136*H136 -> 0 | Q136: 0 | R136: =Q136*H136 -> 0 | S136: 0 | T136: =S136*H136 -> 0 | AR136: 32 | AT136: M | AU136: 3 | AY136: ROZPOCET | BE136: =IF(N136="základní",J136,0) -> 0 | BF136: =IF(N136="snížená",J136,0) -> 0 | BG136: =IF(N136="zákl. přenesená",J136,0) -> 0 | BH136: =IF(N136="sníž. přenesená",J136,0) -> 0 | BI136: =IF(N136="nulová",J136,0) -> 0 | BJ136: 1 | BK136: =ROUND(I136*H136,2) -> 0 | BL136: 16 | BM136: -199648628
C137: 11 | D137: K | E137: R52 | F137: Montáž patch kabelu | G137: kus | H137: 50 | J137: =ROUND(I137*H137,2) -> 0 | N137: základní | P137: =O137*H137 -> 0 | Q137: 0 | R137: =Q137*H137 -> 0 | S137: 0 | T137: =S137*H137 -> 0 | AR137: 16 | AT137: K | AU137: 3 | AY137: ROZPOCET | BE137: =IF(N137="základní",J137,0) -> 0 | BF137: =IF(N137="snížená",J137,0) -> 0 | BG137: =IF(N137="zákl. přenesená",J137,0) -> 0 | BH137: =IF(N137="sníž. přenesená",J137,0) -> 0 | BI137: =IF(N137="nulová",J137,0) -> 0 | BJ137: 1 | BK137: =ROUND(I137*H137,2) -> 0 | BL137: 16 | BM137: 2012868890
C138: 12 | D138: M | E138: R53 | F138: Patch kabel Cat.5E UTP PVC šedý 0,5 m | G138: kus | H138: 15 | J138: =ROUND(I138*H138,2) -> 0 | N138: základní | P138: =O138*H138 -> 0 | Q138: 0 | R138: =Q138*H138 -> 0 | S138: 0 | T138: =S138*H138 -> 0 | AR138: 32 | AT138: M | AU138: 3 | AY138: ROZPOCET | BE138: =IF(N138="základní",J138,0) -> 0 | BF138: =IF(N138="snížená",J138,0) -> 0 | BG138: =IF(N138="zákl. přenesená",J138,0) -> 0 | BH138: =IF(N138="sníž. přenesená",J138,0) -> 0 | BI138: =IF(N138="nulová",J138,0) -> 0 | BJ138: 1 | BK138: =ROUND(I138*H138,2) -> 0 | BL138: 16 | BM138: 688942822
... C160: 34 | D160: K | E160: R400 | F160: Měření strukturované kabeláže (certifikační), včetně protokolu | G160: kus | H160: 60 | J160: =ROUND(I160*H160,2) -> 0 | N160: základní | P160: =O160*H160 -> 0 | Q160: 0 | R160: =Q160*H160 -> 0 | S160: 0 | T160: =S160*H160 -> 0 | AR160: 16 | AT160: K | AU160: 3 | AY160: ROZPOCET | BE160: =IF(N160="základní",J160,0) -> 0 | BF160: =IF(N160="snížená",J160,0) -> 0 | BG160: =IF(N160="zákl. přenesená",J160,0) -> 0 | BH160: =IF(N160="sníž. přenesená",J160,0) -> 0 | BI160: =IF(N160="nulová",J160,0) -> 0 | BJ160: 1 | BK160: =ROUND(I160*H160,2) -> 0 | BL160: 16 | BM160: -511808207
D161: D | E161: 7422 | F161: Poplachový zabezpečovací a tísňový systém | J161: =BK161 -> 0 | P161: =SUM(P162:P184) -> 0 | R161: =SUM(R162:R184) -> 0 | T161: =SUM(T162:T184) -> 0 | AR161: 2 | AT161: D | AU161: 2 | AY161: ROZPOCET | BK161: =SUM(BK162:BK184) -> 0
C162: 35 | D162: K | E162: R13 | F162: Montáž ústředny v krytu | G162: kus | H162: 1 | J162: =ROUND(I162*H162,2) -> 0 | N162: základní | P162: =O162*H162 -> 0 | Q162: 0 | R162: =Q162*H162 -> 0 | S162: 0 | T162: =S162*H162 -> 0 | AR162: 16 | AT162: K | AU162: 3 | AY162: ROZPOCET | BE162: =IF(N162="základní",J162,0) -> 0 | BF162: =IF(N162="snížená",J162,0) -> 0 | BG162: =IF(N162="zákl. přenesená",J162,0) -> 0 | BH162: =IF(N162="sníž. přenesená",J162,0) -> 0 | BI162: =IF(N162="nulová",J162,0) -> 0 | BJ162: 1 | BK162: =ROUND(I162*H162,2) -> 0 | BL162: 16 | BM162: -2010960254
C163: 36 | D163: M | E163: R14 | F163: Deska ústředny, 16-128 zón, 16-128 pg. výstupů, imp. zdroj 3A s ochranou proti přetížení a zkratu, až 8 LCD klávesnic, stupeň zabezpečení 2 | G163: kus | H163: 1 | J163: =ROUND(I163*H163,2) -> 0 | N163: základní | P163: =O163*H163 -> 0 | Q163: 0 | R163: =Q163*H163 -> 0 | S163: 0 | T163: =S163*H163 -> 0 | AR163: 32 | AT163: M | AU163: 3 | AY163: ROZPOCET | BE163: =IF(N163="základní",J163,0) -> 0 | BF163: =IF(N163="snížená",J163,0) -> 0 | BG163: =IF(N163="zákl. přenesená",J163,0) -> 0 | BH163: =IF(N163="sníž. přenesená",J163,0) -> 0 | BI163: =IF(N163="nulová",J163,0) -> 0 | BJ163: 1 | BK163: =ROUND(I163*H163,2) -> 0 | BL163: 16 | BM163: 637469405
C164: 37 | D164: M | E164: R15 | F164: Univerzální plechový kryt s transformátorem 20VAC, 50VA, tamperem a pojistkou, prostor pro 18Ah AKU | G164: kus | H164: 1 | J164: =ROUND(I164*H164,2) -> 0 | N164: základní | P164: =O164*H164 -> 0 | Q164: 0 | R164: =Q164*H164 -> 0 | S164: 0 | T164: =S164*H164 -> 0 | AR164: 32 | AT164: M | AU164: 3 | AY164: ROZPOCET | BE164: =IF(N164="základní",J164,0) -> 0 | BF164: =IF(N164="snížená",J164,0) -> 0 | BG164: =IF(N164="zákl. přenesená",J164,0) -> 0 | BH164: =IF(N164="sníž. přenesená",J164,0) -> 0 | BI164: =IF(N164="nulová",J164,0) -> 0 | BJ164: 1 | BK164: =ROUND(I164*H164,2) -> 0 | BL164: 16 | BM164: 908335301
C165: 38 | D165: M | E165: R16 | F165: Akumulátor 18Ah/12V | G165: kus | H165: 1 | J165: =ROUND(I165*H165,2) -> 0 | N165: základní | P165: =O165*H165 -> 0 | Q165: 0 | R165: =Q165*H165 -> 0 | S165: 0 | T165: =S165*H165 -> 0 | AR165: 32 | AT165: M | AU165: 3 | AY165: ROZPOCET | BE165: =IF(N165="základní",J165,0) -> 0 | BF165: =IF(N165="snížená",J165,0) -> 0 | BG165: =IF(N165="zákl. přenesená",J165,0) -> 0 | BH165: =IF(N165="sníž. přenesená",J165,0) -> 0 | BI165: =IF(N165="nulová",J165,0) -> 0 | BJ165: 1 | BK165: =ROUND(I165*H165,2) -> 0 | BL165: 16 | BM165: 1941983407
C166: 39 | D166: K | E166: R25 | F166: Montáž komunikátoru do ústředny | G166: kus | H166: 1 | J166: =ROUND(I166*H166,2) -> 0 | N166: základní | P166: =O166*H166 -> 0 | Q166: 0 | R166: =Q166*H166 -> 0 | S166: 0 | T166: =S166*H166 -> 0 | AR166: 16 | AT166: K | AU166: 3 | AY166: ROZPOCET | BE166: =IF(N166="základní",J166,0) -> 0 | BF166: =IF(N166="snížená",J166,0) -> 0 | BG166: =IF(N166="zákl. přenesená",J166,0) -> 0 | BH166: =IF(N166="sníž. přenesená",J166,0) -> 0 | BI166: =IF(N166="nulová",J166,0) -> 0 | BJ166: 1 | BK166: =ROUND(I166*H166,2) -> 0 | BL166: 16 | BM166: -906233045
C167: 40 | D167: M | E167: R26 | F167: TCP/IP komunikační modul, vzdálená správa a ovládání | G167: kus | H167: 1 | J167: =ROUND(I167*H167,2) -> 0 | N167: základní | P167: =O167*H167 -> 0 | Q167: 0 | R167: =Q167*H167 -> 0 | S167: 0 | T167: =S167*H167 -> 0 | AR167: 32 | AT167: M | AU167: 3 | AY167: ROZPOCET | BE167: =IF(N167="základní",J167,0) -> 0 | BF167: =IF(N167="snížená",J167,0) -> 0 | BG167: =IF(N167="zákl. přenesená",J167,0) -> 0 | BH167: =IF(N167="sníž. přenesená",J167,0) -> 0 | BI167: =IF(N167="nulová",J167,0) -> 0 | BJ167: 1 | BK167: =ROUND(I167*H167,2) -> 0 | BL167: 16 | BM167: -366384552
C168: 41 | D168: K | E168: 742220141 | F168: Montáž ovládací klávesnice pro dodanou ústřednu | G168: kus | H168: 1 | J168: =ROUND(I168*H168,2) -> 0 | N168: základní | P168: =O168*H168 -> 0 | Q168: 0 | R168: =Q168*H168 -> 0 | S168: 0 | T168: =S168*H168 -> 0 | AR168: 16 | AT168: K | AU168: 3 | AY168: ROZPOCET | BE168: =IF(N168="základní",J168,0) -> 0 | BF168: =IF(N168="snížená",J168,0) -> 0 | BG168: =IF(N168="zákl. přenesená",J168,0) -> 0 | BH168: =IF(N168="sníž. přenesená",J168,0) -> 0 | BI168: =IF(N168="nulová",J168,0) -> 0 | BJ168: 1 | BK168: =ROUND(I168*H168,2) -> 0 | BL168: 16 | BM168: -1103308342
C169: 42 | D169: M | E169: R17 | F169: LCD klávesnice, tamper, bíle podsvětlený displej 2x16 znaků, 6x LED indikace stavu systému, akustická signalizace, dvířka, barva bílá | G169: kus | H169: 1 | J169: =ROUND(I169*H169,2) -> 0 | N169: základní | P169: =O169*H169 -> 0 | Q169: 0 | R169: =Q169*H169 -> 0 | S169: 0 | T169: =S169*H169 -> 0 | AR169: 32 | AT169: M | AU169: 3 | AY169: ROZPOCET | BE169: =IF(N169="základní",J169,0) -> 0 | BF169: =IF(N169="snížená",J169,0) -> 0 | BG169: =IF(N169="zákl. přenesená",J169,0) -> 0 | BH169: =IF(N169="sníž. přenesená",J169,0) -> 0 | BI169: =IF(N169="nulová",J169,0) -> 0 | BJ169: 1 | BK169: =ROUND(I169*H169,2) -> 0 | BL169: 16 | BM169: -298249257
C170: 43 | D170: K | E170: 742220031 | F170: Montáž koncentrátoru nebo expanderu v krytu | G170: kus | H170: 1 | J170: =ROUND(I170*H170,2) -> 0 | N170: základní | P170: =O170*H170 -> 0 | Q170: 0 | R170: =Q170*H170 -> 0 | S170: 0 | T170: =S170*H170 -> 0 | AR170: 16 | AT170: K | AU170: 3 | AY170: ROZPOCET | BE170: =IF(N170="základní",J170,0) -> 0 | BF170: =IF(N170="snížená",J170,0) -> 0 | BG170: =IF(N170="zákl. přenesená",J170,0) -> 0 | BH170: =IF(N170="sníž. přenesená",J170,0) -> 0 | BI170: =IF(N170="nulová",J170,0) -> 0 | BJ170: 1 | BK170: =ROUND(I170*H170,2) -> 0 | BL170: 16 | BM170: -1194576159
C171: 44 | D171: M | E171: R31 | F171: Expanzní modul 8 zón | G171: kus | H171: 1 | J171: =ROUND(I171*H171,2) -> 0 | N171: základní | P171: =O171*H171 -> 0 | Q171: 0 | R171: =Q171*H171 -> 0 | S171: 0 | T171: =S171*H171 -> 0 | AR171: 32 | AT171: M | AU171: 3 | AY171: ROZPOCET | BE171: =IF(N171="základní",J171,0) -> 0 | BF171: =IF(N171="snížená",J171,0) -> 0 | BG171: =IF(N171="zákl. přenesená",J171,0) -> 0 | BH171: =IF(N171="sníž. přenesená",J171,0) -> 0 | BI171: =IF(N171="nulová",J171,0) -> 0 | BJ171: 1 | BK171: =ROUND(I171*H171,2) -> 0 | BL171: 16 | BM171: 1773508164
C172: 45 | D172: K | E172: 742220051 | F172: Montáž krabice pro expander s uložením na omítku | G172: kus | H172: 1 | J172: =ROUND(I172*H172,2) -> 0 | N172: základní | P172: =O172*H172 -> 0 | Q172: 0 | R172: =Q172*H172 -> 0 | S172: 0 | T172: =S172*H172 -> 0 | AR172: 16 | AT172: K | AU172: 3 | AY172: ROZPOCET | BE172: =IF(N172="základní",J172,0) -> 0 | BF172: =IF(N172="snížená",J172,0) -> 0 | BG172: =IF(N172="zákl. přenesená",J172,0) -> 0 | BH172: =IF(N172="sníž. přenesená",J172,0) -> 0 | BI172: =IF(N172="nulová",J172,0) -> 0 | BJ172: 1 | BK172: =ROUND(I172*H172,2) -> 0 | BL172: 16 | BM172: 416252893
C173: 46 | D173: M | E173: R32 | F173: Plastový kryt s tamperem pro expanzní moduly | G173: kus | H173: 1 | J173: =ROUND(I173*H173,2) -> 0 | N173: základní | P173: =O173*H173 -> 0 | Q173: 0 | R173: =Q173*H173 -> 0 | S173: 0 | T173: =S173*H173 -> 0 | AR173: 32 | AT173: M | AU173: 3 | AY173: ROZPOCET | BE173: =IF(N173="základní",J173,0) -> 0 | BF173: =IF(N173="snížená",J173,0) -> 0 | BG173: =IF(N173="zákl. přenesená",J173,0) -> 0 | BH173: =IF(N173="sníž. přenesená",J173,0) -> 0 | BI173: =IF(N173="nulová",J173,0) -> 0 | BJ173: 1 | BK173: =ROUND(I173*H173,2) -> 0 | BL173: 16 | BM173: 2014262949
... C184: 57 | D184: K | E184: R28 | F184: Koordinace s provozovatelem PCO | G184: kpl | H184: 1 | J184: =ROUND(I184*H184,2) -> 0 | N184: základní | P184: =O184*H184 -> 0 | Q184: 0 | R184: =Q184*H184 -> 0 | S184: 0 | T184: =S184*H184 -> 0 | AR184: 16 | AT184: K | AU184: 3 | AY184: ROZPOCET | BE184: =IF(N184="základní",J184,0) -> 0 | BF184: =IF(N184="snížená",J184,0) -> 0 | BG184: =IF(N184="zákl. přenesená",J184,0) -> 0 | BH184: =IF(N184="sníž. přenesená",J184,0) -> 0 | BI184: =IF(N184="nulová",J184,0) -> 0 | BJ184: 1 | BK184: =ROUND(I184*H184,2) -> 0 | BL184: 16 | BM184: 1934677220
D185: D | E185: 7423 | F185: Domovní telefon | J185: =BK185 -> 0 | P185: =SUM(P186:P198) -> 0 | R185: =SUM(R186:R198) -> 0 | T185: =SUM(T186:T198) -> 0 | AR185: 2 | AT185: D | AU185: 2 | AY185: ROZPOCET | BK185: =SUM(BK186:BK198) -> 0
C186: 58 | D186: K | E186: 742310002 | F186: Montáž komunikačního tabla k domácímu telefonu | G186: kus | H186: 1 | J186: =ROUND(I186*H186,2) -> 0 | N186: základní | P186: =O186*H186 -> 0 | Q186: 0 | R186: =Q186*H186 -> 0 | S186: 0 | T186: =S186*H186 -> 0 | AR186: 16 | AT186: K | AU186: 3 | AY186: ROZPOCET | BE186: =IF(N186="základní",J186,0) -> 0 | BF186: =IF(N186="snížená",J186,0) -> 0 | BG186: =IF(N186="zákl. přenesená",J186,0) -> 0 | BH186: =IF(N186="sníž. přenesená",J186,0) -> 0 | BI186: =IF(N186="nulová",J186,0) -> 0 | BJ186: 1 | BK186: =ROUND(I186*H186,2) -> 0 | BL186: 16 | BM186: -820085088
C187: 59 | D187: M | E187: R300 | F187: Dveřní stanice s kamerou a 1x tlačítkem, WIFI, plastové provedení, povrchová montáž, RFID čtečka Mifare (13.56 MHz), napájení 12 VDC/POE, 1x výstup pro ovládání dveří | G187: kus | H187: 1 | J187: =ROUND(I187*H187,2) -> 0 | N187: základní | P187: =O187*H187 -> 0 | Q187: 0 | R187: =Q187*H187 -> 0 | S187: 0 | T187: =S187*H187 -> 0 | AR187: 32 | AT187: M | AU187: 3 | AY187: ROZPOCET | BE187: =IF(N187="základní",J187,0) -> 0 | BF187: =IF(N187="snížená",J187,0) -> 0 | BG187: =IF(N187="zákl. přenesená",J187,0) -> 0 | BH187: =IF(N187="sníž. přenesená",J187,0) -> 0 | BI187: =IF(N187="nulová",J187,0) -> 0 | BJ187: 1 | BK187: =ROUND(I187*H187,2) -> 0 | BL187: 16 | BM187: 1818832058
C188: 60 | D188: K | E188: 742310006 | F188: Montáž domácího nástěnného audio/video telefonu | G188: kus | H188: 3 | J188: =ROUND(I188*H188,2) -> 0 | N188: základní | P188: =O188*H188 -> 0 | Q188: 0 | R188: =Q188*H188 -> 0 | S188: 0 | T188: =S188*H188 -> 0 | AR188: 16 | AT188: K | AU188: 3 | AY188: ROZPOCET | BE188: =IF(N188="základní",J188,0) -> 0 | BF188: =IF(N188="snížená",J188,0) -> 0 | BG188: =IF(N188="zákl. přenesená",J188,0) -> 0 | BH188: =IF(N188="sníž. přenesená",J188,0) -> 0 | BI188: =IF(N188="nulová",J188,0) -> 0 | BJ188: 1 | BK188: =ROUND(I188*H188,2) -> 0 | BL188: 16 | BM188: 2104190914
C189: 61 | D189: M | E189: R301 | F189: Vnitřní dotykový monitor, 7" LCD, SD slot, plastový, napájení 12VDC/POE | G189: kus | H189: 2 | J189: =ROUND(I189*H189,2) -> 0 | N189: základní | P189: =O189*H189 -> 0 | Q189: 0 | R189: =Q189*H189 -> 0 | S189: 0 | T189: =S189*H189 -> 0 | AR189: 32 | AT189: M | AU189: 3 | AY189: ROZPOCET | BE189: =IF(N189="základní",J189,0) -> 0 | BF189: =IF(N189="snížená",J189,0) -> 0 | BG189: =IF(N189="zákl. přenesená",J189,0) -> 0 | BH189: =IF(N189="sníž. přenesená",J189,0) -> 0 | BI189: =IF(N189="nulová",J189,0) -> 0 | BJ189: 1 | BK189: =ROUND(I189*H189,2) -> 0 | BL189: 16 | BM189: -1709505812
C190: 62 | D190: M | E190: R302 | F190: Vnitřní IP stanice bez obrazovky - handsfree audio domovní telefon, POE, volitelná tlačítka | G190: kus | H190: 1 | J190: =ROUND(I190*H190,2) -> 0 | N190: základní | P190: =O190*H190 -> 0 | Q190: 0 | R190: =Q190*H190 -> 0 | S190: 0 | T190: =S190*H190 -> 0 | AR190: 32 | AT190: M | AU190: 3 | AY190: ROZPOCET | BE190: =IF(N190="základní",J190,0) -> 0 | BF190: =IF(N190="snížená",J190,0) -> 0 | BG190: =IF(N190="zákl. přenesená",J190,0) -> 0 | BH190: =IF(N190="sníž. přenesená",J190,0) -> 0 | BI190: =IF(N190="nulová",J190,0) -> 0 | BJ190: 1 | BK190: =ROUND(I190*H190,2) -> 0 | BL190: 16 | BM190: 749017062
C191: 63 | D191: M | E191: R303 | F191: Stojánek na stůl pro 7"/10" monitory | G191: kus | H191: 1 | J191: =ROUND(I191*H191,2) -> 0 | N191: základní | P191: =O191*H191 -> 0 | Q191: 0 | R191: =Q191*H191 -> 0 | S191: 0 | T191: =S191*H191 -> 0 | AR191: 32 | AT191: M | AU191: 3 | AY191: ROZPOCET | BE191: =IF(N191="základní",J191,0) -> 0 | BF191: =IF(N191="snížená",J191,0) -> 0 | BG191: =IF(N191="zákl. přenesená",J191,0) -> 0 | BH191: =IF(N191="sníž. přenesená",J191,0) -> 0 | BI191: =IF(N191="nulová",J191,0) -> 0 | BJ191: 1 | BK191: =ROUND(I191*H191,2) -> 0 | BL191: 16 | BM191: -622939831
C192: 64 | D192: K | E192: 742220211 | F192: Montáž zálohového napájecího zdroje s dobíječem a akumulátorem | G192: kus | H192: 1 | J192: =ROUND(I192*H192,2) -> 0 | N192: základní | P192: =O192*H192 -> 0 | Q192: 0 | R192: =Q192*H192 -> 0 | S192: 0 | T192: =S192*H192 -> 0 | AR192: 16 | AT192: K | AU192: 3 | AY192: ROZPOCET | BE192: =IF(N192="základní",J192,0) -> 0 | BF192: =IF(N192="snížená",J192,0) -> 0 | BG192: =IF(N192="zákl. přenesená",J192,0) -> 0 | BH192: =IF(N192="sníž. přenesená",J192,0) -> 0 | BI192: =IF(N192="nulová",J192,0) -> 0 | BJ192: 1 | BK192: =ROUND(I192*H192,2) -> 0 | BL192: 16 | BM192: 892678004
C193: 65 | D193: M | E193: R304 | F193: Spínaný zdroj 13,8 Vss / 1,5A s vysokou účinností v kovovém krytu, AKU max. 7Ah | G193: kus | H193: 1 | J193: =ROUND(I193*H193,2) -> 0 | N193: základní | P193: =O193*H193 -> 0 | Q193: 0 | R193: =Q193*H193 -> 0 | S193: 0 | T193: =S193*H193 -> 0 | AR193: 32 | AT193: M | AU193: 3 | AY193: ROZPOCET | BE193: =IF(N193="základní",J193,0) -> 0 | BF193: =IF(N193="snížená",J193,0) -> 0 | BG193: =IF(N193="zákl. přenesená",J193,0) -> 0 | BH193: =IF(N193="sníž. přenesená",J193,0) -> 0 | BI193: =IF(N193="nulová",J193,0) -> 0 | BJ193: 1 | BK193: =ROUND(I193*H193,2) -> 0 | BL193: 16 | BM193: -2084431550
C194: 66 | D194: M | E194: R305 | F194: Akumulátor 12V/7Ah, životnost až 5 let, VdS | G194: kus | H194: 1 | J194: =ROUND(I194*H194,2) -> 0 | N194: základní | P194: =O194*H194 -> 0 | Q194: 0 | R194: =Q194*H194 -> 0 | S194: 0 | T194: =S194*H194 -> 0 | AR194: 32 | AT194: M | AU194: 3 | AY194: ROZPOCET | BE194: =IF(N194="základní",J194,0) -> 0 | BF194: =IF(N194="snížená",J194,0) -> 0 | BG194: =IF(N194="zákl. přenesená",J194,0) -> 0 | BH194: =IF(N194="sníž. přenesená",J194,0) -> 0 | BI194: =IF(N194="nulová",J194,0) -> 0 | BJ194: 1 | BK194: =ROUND(I194*H194,2) -> 0 | BL194: 16 | BM194: 979978779
C195: 67 | D195: K | E195: R50 | F195: Montáž PoE injektoru | G195: kus | H195: 4 | J195: =ROUND(I195*H195,2) -> 0 | N195: základní | P195: =O195*H195 -> 0 | Q195: 0 | R195: =Q195*H195 -> 0 | S195: 0 | T195: =S195*H195 -> 0 | AR195: 16 | AT195: K | AU195: 3 | AY195: ROZPOCET | BE195: =IF(N195="základní",J195,0) -> 0 | BF195: =IF(N195="snížená",J195,0) -> 0 | BG195: =IF(N195="zákl. přenesená",J195,0) -> 0 | BH195: =IF(N195="sníž. přenesená",J195,0) -> 0 | BI195: =IF(N195="nulová",J195,0) -> 0 | BJ195: 1 | BK195: =ROUND(I195*H195,2) -> 0 | BL195: 16 | BM195: -1244948465
C196: 68 | D196: M | E196: R51 | F196: PoE injector, 1000Mbps, IEEE802.3af (max. 48 V, 15,4 W) | G196: kus | H196: 4 | J196: =ROUND(I196*H196,2) -> 0 | N196: základní | P196: =O196*H196 -> 0 | Q196: 0 | R196: =Q196*H196 -> 0 | S196: 0 | T196: =S196*H196 -> 0 | AR196: 32 | AT196: M | AU196: 3 | AY196: ROZPOCET | BE196: =IF(N196="základní",J196,0) -> 0 | BF196: =IF(N196="snížená",J196,0) -> 0 | BG196: =IF(N196="zákl. přenesená",J196,0) -> 0 | BH196: =IF(N196="sníž. přenesená",J196,0) -> 0 | BI196: =IF(N196="nulová",J196,0) -> 0 | BJ196: 1 | BK196: =ROUND(I196*H196,2) -> 0 | BL196: 16 | BM196: 1251531000
C197: 69 | D197: K | E197: R306 | F197: Zapojení elektromechanického zámku | G197: kus | H197: 1 | J197: =ROUND(I197*H197,2) -> 0 | N197: základní | P197: =O197*H197 -> 0 | Q197: 0 | R197: =Q197*H197 -> 0 | S197: 0 | T197: =S197*H197 -> 0 | AR197: 16 | AT197: K | AU197: 3 | AY197: ROZPOCET | BE197: =IF(N197="základní",J197,0) -> 0 | BF197: =IF(N197="snížená",J197,0) -> 0 | BG197: =IF(N197="zákl. přenesená",J197,0) -> 0 | BH197: =IF(N197="sníž. přenesená",J197,0) -> 0 | BI197: =IF(N197="nulová",J197,0) -> 0 | BJ197: 1 | BK197: =ROUND(I197*H197,2) -> 0 | BL197: 16 | BM197: -741766549
...
